BEGIN:VCALENDAR
VERSION:2.0
PRODID:-//ChamberMaster//Event Calendar 2.0//EN
METHOD:PUBLISH
X-PUBLISHED-TTL:P3D
REFRESH-INTERVAL:P3D
CALSCALE:GREGORIAN
BEGIN:VEVENT
DTSTART:20180603T190000Z
DTEND:20180603T220000Z
X-MICROSOFT-CDO-ALLDAYEVENT:FALSE
SUMMARY:Haircut Fundraiser
DESCRIPTION:Support Claremont schools with one haircut! \n\n\n\nJoin us in raising money for the Claremont Educational Foundation! Experience a high-quality haircut at a heavily discounted rate. 100% of proceeds will go directly to CEF.\n\n	$25 haircuts!*\n\n*Cash only\, no appointments\, first come first serve\, no stylist requests
X-ALT-DESC;FMTTYPE=text/html:Support Claremont schools with one haircut!&nbsp\;<br />\n<br />\nJoin us in raising money for the Claremont Educational Foundation! Experience a high-quality haircut at a heavily discounted rate. 100% of proceeds will go directly to CEF.\n<ul>\n	<li><span style="font-size:14px"><strong>$25 haircuts!*</strong></span></li>\n</ul>\n<em>*Cash only\, no appointments\, first come first serve\, no stylist requests</em><br />\n&nbsp\;
LOCATION:Be Rosie Salon 849 W. Foothill Blvd. Claremont\, CA 91711 New salon located in the Sprouts center in Claremont!
UID:e.838.18903
SEQUENCE:3
DTSTAMP:20260422T064615Z
URL:https://business.claremontchamber.org/events/details/haircut-fundraiser-18903
END:VEVENT

END:VCALENDAR
