BEGIN:VCALENDAR
VERSION:2.0
PRODID:-//ChamberMaster//Event Calendar 2.0//EN
METHOD:PUBLISH
X-PUBLISHED-TTL:P3D
REFRESH-INTERVAL:P3D
CALSCALE:GREGORIAN
BEGIN:VEVENT
DTSTART:20180929T030000Z
DTEND:20180929T050000Z
X-MICROSOFT-CDO-ALLDAYEVENT:FALSE
SUMMARY:Handcrafted Mysteries: An Evening of Magic and Mentalism
DESCRIPTION:Handcrafted Mysteries is an immersive magic and mentalism experience with Greg Van Holsbeck\; a professional magician and member of the Hollywood Magic Castle. The show has been in development for 3 years and features Greg's original pieces of magic.\n\nIn Handcrafted Mysteries\, you won't find rabbits\, glittery suits\, or large apparatus (unless you bring your own). You will\, however\, find highly interactive and entertaining tricks involving skill\, psychology and a few small ordinary objects.\n\nHandcrafted Mysteries is broken into three separate acts: Magic\, Mind Reading and Coincidence.\n\nRecommended for ages 16+\n\nDoubletree parking is free.\n\nSeating is first come\, first seated.\n\nIf you have further questions\, you can reach Greg at gregvanholsbeck@gmail.com
X-ALT-DESC;FMTTYPE=text/html:<p>Handcrafted Mysteries is an immersive magic and mentalism experience with Greg Van Holsbeck\; a professional magician and member of the Hollywood Magic Castle. The show has been in development for 3 years and features Greg&#39\;s original pieces of magic.</p>\n\n<p>In Handcrafted Mysteries\, you won&#39\;t find rabbits\, glittery suits\, or large apparatus (unless you bring your own). You will\, however\, find highly interactive and entertaining tricks involving skill\, psychology and a few small ordinary objects.</p>\n\n<p>Handcrafted Mysteries is broken into three separate acts: Magic\, Mind Reading and Coincidence.</p>\n\n<p>Recommended for ages 16+</p>\n\n<p>Doubletree parking is free.</p>\n\n<p>Seating is first come\, first seated.</p>\n\n<p>If you have further questions\, you can reach Greg at gregvanholsbeck@gmail.com</p>\n
LOCATION:Handcrafted Mysteries takes place at the Doubletree by Hilton in Claremont CA. 555 W Foothill Blvd\, Claremont\, CA 91711
UID:e.838.20287
SEQUENCE:3
DTSTAMP:20260421T165029Z
URL:https://business.claremontchamber.org/events/details/handcrafted-mysteries-an-evening-of-magic-and-mentalism-20287
END:VEVENT

END:VCALENDAR
