BEGIN:VCALENDAR
VERSION:2.0
PRODID:-//ChamberMaster//Event Calendar 2.0//EN
METHOD:PUBLISH
X-PUBLISHED-TTL:P3D
REFRESH-INTERVAL:P3D
CALSCALE:GREGORIAN
BEGIN:VEVENT
DTSTART:20170622T000000Z
DTEND:20170622T020000Z
X-MICROSOFT-CDO-ALLDAYEVENT:FALSE
SUMMARY:Haynes Multi-Chamber Mixer
DESCRIPTION:Network with Chamber Members from NINE cities! \n\nLa Verne\, Claremont\, Covina\, Glendora\,  Irwindale\, Montclair\, Pomona\,\n\nSan Dimas\, Upland
X-ALT-DESC;FMTTYPE=text/html:<strong><em>Network with Chamber Members from NINE cities!&nbsp\;</em></strong><br />\nLa Verne\, Claremont\, Covina\, Glendora\,&nbsp\; Irwindale\, Montclair\, Pomona\,<br />\nSan Dimas\, Upland<br />\n&nbsp\;
LOCATION:Haynes Family of Programs 233 W Baseline Road La Verne\, CA 91750
UID:e.838.16189
SEQUENCE:3
DTSTAMP:20260425T104308Z
URL:https://business.claremontchamber.org/events/details/haynes-multi-chamber-mixer-16189
END:VEVENT

END:VCALENDAR
