BEGIN:VCALENDAR
VERSION:2.0
PRODID:-//ChamberMaster//Event Calendar 2.0//EN
METHOD:PUBLISH
X-PUBLISHED-TTL:P3D
REFRESH-INTERVAL:P3D
CALSCALE:GREGORIAN
BEGIN:VEVENT
DTSTART:20151205T010000Z
DTEND:20151205T040000Z
X-MICROSOFT-CDO-ALLDAYEVENT:FALSE
SUMMARY:Holiday Promenade & Tree Lighting
DESCRIPTION:Photos with Santa & Mrs. Claus from 5-6 pm and 7-8 pm at City Hall\, 207 Harvard Ave.\n\n\n\nHoliday carolers and entertainment from 5-8 pm at the Train Depot and throughout the Village\n\n\n\nTree Lighting Ceremony 6 pm\, at the Claremont Depot\, 200 W. First St.
X-ALT-DESC;FMTTYPE=text/html:<strong>Photos with Santa &amp\; Mrs. Claus</strong> from 5-6 pm and 7-8 pm at City Hall\, 207 Harvard Ave.<br />\n<br />\n<strong>Holiday carolers and entertainment</strong> from 5-8 pm at the Train Depot and throughout the Village<br />\n<br />\n<strong>Tree Lighting Ceremony</strong> 6 pm\, at the Claremont Depot\, 200 W. First St.
LOCATION:
UID:e.838.8546
SEQUENCE:3
DTSTAMP:20260426T031340Z
URL:https://business.claremontchamber.org/events/details/holiday-promenade-tree-lighting-12-04-2015-8546
END:VEVENT

END:VCALENDAR
