BEGIN:VCALENDAR
VERSION:2.0
PRODID:-//ChamberMaster//Event Calendar 2.0//EN
METHOD:PUBLISH
X-PUBLISHED-TTL:P3D
REFRESH-INTERVAL:P3D
CALSCALE:GREGORIAN
BEGIN:VEVENT
DTSTART:20171130T173000Z
DTEND:20171130T190000Z
X-MICROSOFT-CDO-ALLDAYEVENT:FALSE
SUMMARY:"Immigration: An HIstorical\, Economic and Moral Perspective"
DESCRIPTION:These League of Women Voters morning and evening Unit/Discussion meetings will be at 9:30 AM and 7:00 PM. The morning speaker will be Jesus Sanchez\,Youth and Volunteer Coordinator at Uncommon Good\, a Claremont nonprofit community development organization that offers education\, health\, and urban farm programs for low income students and families.  Sanchez is also the founder and Executive Director of Gente Organization\, Pomona\, a leadership and community involvement organization for immigrant parents.  The evening speaker will be Nancy Minte\, an attorney who is founder and Executive Director of Uncommon Good.  She was also the founder and Executive Director of the Inner City Law Center\, a nonprofit legal and social services organization in Los Angeles\, where she helped the homeless and pioneered the use of slum housing litigation to force hundreds to clean up their buildings.
X-ALT-DESC;FMTTYPE=text/html:These League of Women Voters morning and evening Unit/Discussion meetings will be at 9:30 AM and 7:00 PM. The morning speaker will be Jesus Sanchez\,Youth and Volunteer Coordinator at Uncommon Good\, a Claremont nonprofit community development organization that offers education\, health\, and urban farm programs for low income students and families.&nbsp\; Sanchez is also the founder and Executive Director of Gente Organization\, Pomona\, a leadership and community involvement organization for immigrant parents.&nbsp\; The evening speaker will be Nancy Minte\,&nbsp\;an attorney who is founder and Executive Director of Uncommon Good.&nbsp\; She was also the founder and Executive Director of the Inner City Law Center\, a nonprofit legal and social services organization in Los Angeles\, where she helped the homeless and pioneered the use of slum housing litigation to force hundreds to clean up their buildings.&nbsp\;&nbsp\;
LOCATION:Morning: Mt. San Antonio Gardens\, Bldg D\, 4th Floor\, 875 Bonita Ave. Pomona Evening: Garner House\, 840 N. Indian Hill Blvd\, Claremont
UID:e.838.17200
SEQUENCE:3
DTSTAMP:20260423T160136Z
URL:https://business.claremontchamber.org/events/details/immigration-an-historical-economic-and-moral-perspective-17200
END:VEVENT

END:VCALENDAR
