BEGIN:VCALENDAR
VERSION:2.0
PRODID:-//ChamberMaster//Event Calendar 2.0//EN
METHOD:PUBLISH
X-PUBLISHED-TTL:P3D
REFRESH-INTERVAL:P3D
CALSCALE:GREGORIAN
BEGIN:VEVENT
DTSTART:20161026T230000Z
DTEND:20161027T030000Z
X-MICROSOFT-CDO-ALLDAYEVENT:FALSE
SUMMARY:Inland Empire's Largest Mixer X
DESCRIPTION:The 10th annual Inland Empire's Largest Mixer combines the networking power of Inland Empire area chambers of commerce and business organizations. Get ready to mix and mingle with professionals representing hundreds of industries and companies providing the ultimate business networking experience!\n\n\n\nInland Empire's Largest Mixer is a great opportunity to reach small to large companies\, meet new clients and learn how the different chambers of commerce and business organizations can make your business grow.\n\n\n\nMixer admission is $20 per person (no checks or credit cards at the door).\n\n\n\nFor exhibitor or general information: 909.560.2800 or http://www.iemixer.com
X-ALT-DESC;FMTTYPE=text/html:<span style="font-family:arial\;"><span style="color:black\;">The 10th annual Inland Empire&rsquo\;s Largest Mixer combines the networking power of Inland Empire area chambers of commerce and business organizations. Get ready to mix and mingle with professionals representing hundreds of industries and companies providing the ultimate business networking experience!<br />\n<br />\nInland Empire&rsquo\;s Largest Mixer is a great opportunity to reach small to large companies\, meet new clients and learn how the different chambers of commerce and business organizations can make your business grow.<br />\n<br />\nMixer admission is $20 per person (no checks or credit cards at the door).<br />\n<br />\nFor exhibitor or general information: 909.560.2800 or <a href="http://www.iemixer.com">http://www.iemixer.com</a></span></span>
LOCATION:Ontario Convention Center 2000 E. Convention Center Way Ontario\, CA 91764
UID:e.838.12478
SEQUENCE:3
DTSTAMP:20260425T004850Z
URL:https://business.claremontchamber.org/events/details/inland-empire-s-largest-mixer-x-10-26-2016-12478
END:VEVENT

END:VCALENDAR
