BEGIN:VCALENDAR
VERSION:2.0
PRODID:-//ChamberMaster//Event Calendar 2.0//EN
METHOD:PUBLISH
X-PUBLISHED-TTL:P3D
REFRESH-INTERVAL:P3D
CALSCALE:GREGORIAN
BEGIN:VEVENT
DTSTART:20180726T230000Z
DTEND:20180727T030000Z
X-MICROSOFT-CDO-ALLDAYEVENT:FALSE
SUMMARY:L.A.'s Largest Mixer
DESCRIPTION:The Original Largest Mixer!  Come celebrate 20 years of the coming together of like-minded business professionals from across the greater Los Angeles basin by attending the 2018 L.A's Largest Mixer.  Annually the LA Mixer attracts more than 150 exhibitors and 2000 attendees for an evening of making new business connections\, generating leads\, and renewing existing business relationships.  Over 20 area chambers of commerce and professional business organizations will be there to help you learn how you can use their organizations to grow your business no matter the size. Meet super networkers in the TEAM Referral Lounge and take part in a speed networking session that has proven over multiple Mixers to stimulate new business relationships.  To keep your energy up sample food from local restaurants and enjoy a cocktail or soft drink from one of the cash bars.\nPolish up your elevator pitch and bring your business cards to the LA Mixer and Meet Your Next Client!\n\nAdmission is $20.00 and the Largest Mixer is open to all businesses and the general public.\n\nPARKING:  We encourage you to park across the street at The Paseo. First 90 minutes FREE with validation and $1.50 every 30 minutes after for a maximum of $6.00 with validation.  Self-validating machine at the top of the escalator from the parking garage.
X-ALT-DESC;FMTTYPE=text/html:<br />\n<span style="color: rgb(47\, 87\, 141)\; font-family: &quot\;Open Sans&quot\;\, sans-serif\; font-size: 14px\;">The Original Largest Mixer!&nbsp\; Come celebrate 20 years of the coming together of like-minded business professionals from across the greater Los Angeles basin by attending the 2018 L.A&rsquo\;s Largest Mixer.&nbsp\; Annually the LA Mixer attracts more than 150 exhibitors and 2000 attendees for an evening of making new business connections\, generating leads\, and renewing existing business relationships.&nbsp\; Over 20 area chambers of commerce and professional business organizations will be there to help you learn how you can use their organizations to grow your business no matter the size. Meet super </span>networkers<span style="color: rgb(47\, 87\, 141)\; font-family: &quot\;Open Sans&quot\;\, sans-serif\; font-size: 14px\;"> in the TEAM Referral Lounge and take part in a speed networking session that has proven over multiple Mixers to stimulate new business relationships.&nbsp\; To keep your energy up sample food from local restaurants and enjoy a cocktail or soft drink from one of the cash bars.</span>\n<p style="box-sizing: border-box\; margin: 0px 0px 20px\; padding: 0px\; border: 0px\; outline: 0px\; font-variant-numeric: inherit\; font-variant-east-asian: inherit\; font-stretch: inherit\; line-height: inherit\; vertical-align: baseline\; font-family: &quot\;Open Sans&quot\;\, sans-serif\; font-size: 14px\; color: rgb(47\, 87\, 141)\; background-color: rgb(255\, 255\, 255)\;">Polish up your elevator pitch and bring your business cards to the LA Mixer and Meet Your Next Client!</p>\n\n<p style="box-sizing: border-box\; margin: 0px 0px 20px\; padding: 0px\; border: 0px\; outline: 0px\; font-variant-numeric: inherit\; font-variant-east-asian: inherit\; font-stretch: inherit\; line-height: inherit\; vertical-align: baseline\; font-family: &quot\;Open Sans&quot\;\, sans-serif\; font-size: 14px\; color: rgb(47\, 87\, 141)\; background-color: rgb(255\, 255\, 255)\;">Admission is $20.00 and the Largest Mixer is open to all businesses and the general public.</p>\n\n<p style="box-sizing: border-box\; margin: 0px 0px 20px\; padding: 0px\; border: 0px\; outline: 0px\; font-variant-numeric: inherit\; font-variant-east-asian: inherit\; font-stretch: inherit\; line-height: inherit\; vertical-align: baseline\; font-family: &quot\;Open Sans&quot\;\, sans-serif\; font-size: 14px\; color: rgb(47\, 87\, 141)\; background-color: rgb(255\, 255\, 255)\;">PARKING:&nbsp\; We encourage you to park across the street at The Paseo. First 90 minutes FREE with validation and $1.50 every 30 minutes after for a maximum of $6.00 with validation.&nbsp\; Self-validating machine at the top of the escalator from the parking garage.<br />\n<br />\n&nbsp\;</p>\n
LOCATION:Pasadena Convention Center Pasadena
UID:e.838.18900
SEQUENCE:3
DTSTAMP:20260422T045404Z
URL:https://business.claremontchamber.org/events/details/l-a-s-largest-mixer-18900
END:VEVENT

END:VCALENDAR
