BEGIN:VCALENDAR
VERSION:2.0
PRODID:-//ChamberMaster//Event Calendar 2.0//EN
METHOD:PUBLISH
X-PUBLISHED-TTL:P3D
REFRESH-INTERVAL:P3D
CALSCALE:GREGORIAN
BEGIN:VEVENT
DTSTART:20171021T210000Z
DTEND:20171021T230000Z
X-MICROSOFT-CDO-ALLDAYEVENT:FALSE
SUMMARY:League of Women Voters "Food for Thought"
DESCRIPTION:"Intersectional Coalition Building: Strategies for Responding and Resisting Immigration Scapegoating"This Fund Raising Event will feature Jose Zapata Calderon\, Ph.D.\, Professor Emeritas of Socialogy and Chicano Studies from Pitzer College.  He is an activist and academic who promotes coalitions by sharing his experiences as a professor and a farm worker.  He works to build partnerships between communities and higher education.\n\nThis Food for Thought event is a fundraiser for LWV and the cost is $40.00. \n\nLight refreshments will be provided.
X-ALT-DESC;FMTTYPE=text/html:&quot\;Intersectional Coalition Building: Strategies for Responding and Resisting Immigration Scapegoating&quot\;This Fund Raising Event will feature Jose Zapata Calderon\, Ph.D.\, Professor Emeritas of Socialogy and Chicano Studies from Pitzer College.&nbsp\; He is an activist and academic who promotes coalitions by sharing his experiences as a professor and a farm worker.&nbsp\; He works to build partnerships between communities and higher education.<br />\nThis Food for Thought event is a fundraiser for LWV and the cost is $40.00.&nbsp\;<br />\nLight refreshments will be provided.
LOCATION:Hughes Center\, Padua Room\, 1700 Danbury Road\, Claremont.
UID:e.838.17174
SEQUENCE:3
DTSTAMP:20260423T221149Z
URL:https://business.claremontchamber.org/events/details/league-of-women-voters-food-for-thought-17174
END:VEVENT

END:VCALENDAR
