BEGIN:VCALENDAR
VERSION:2.0
PRODID:-//ChamberMaster//Event Calendar 2.0//EN
METHOD:PUBLISH
X-PUBLISHED-TTL:P3D
REFRESH-INTERVAL:P3D
CALSCALE:GREGORIAN
BEGIN:VEVENT
DTSTART:20160317T163000Z
DTEND:20160317T183000Z
X-MICROSOFT-CDO-ALLDAYEVENT:FALSE
SUMMARY:League of Women Voters Unit/Discussion "Higher Education Study I"
DESCRIPTION:The focus of this State-wide study in the morning and evening sessions will be"Purpose\, Access\, Equity\, Funding\, Affordability".  \n\nMorning Session: Mt. San Antonio Gardens\, Bldg D\, 4th Floor\, 875 E. Bonita Ave.\, Pomona\, 8:30-11AM.\n\nEvening Session:  Garner House Exhibition Center\, 480 N. Indian Hill Blvd\, Claremont\, 6:30-8 PM\n\nPublic is invited to participate in the discussion\;LWV members will work to reach consensus on the topics.  Contact:  909-624-9457 or  league@claremont.ca.lwvnet.org  .
X-ALT-DESC;FMTTYPE=text/html:The focus of this State-wide&nbsp\;study in the morning and evening sessions will be&quot\;Purpose\, Access\, Equity\, Funding\, Affordability&quot\;.&nbsp\;&nbsp\;<br />\nMorning Session: Mt. San Antonio Gardens\, Bldg D\, 4th Floor\, 875 E. Bonita Ave.\, Pomona\, 8:30-11AM.<br />\nEvening Session:&nbsp\; Garner House Exhibition Center\, 480 N. Indian Hill Blvd\, Claremont\, 6:30-8 PM<br />\nPublic is invited to participate in the discussion\;LWV members will work to reach consensus on the topics.&nbsp\; Contact:&nbsp\; 909-624-9457 or&nbsp\; <a href="mailto:league@claremont.ca.lwvnet.org">league@claremont.ca.lwvnet.org</a>&nbsp\; .<br />\n&nbsp\;
LOCATION:Mt. San Antionio Gardens\, Bldg D\, 4th Floor\, 875 E. Bonita Ave.\, Pomona
UID:e.838.11922
SEQUENCE:3
DTSTAMP:20260425T161831Z
URL:https://business.claremontchamber.org/events/details/league-of-women-voters-unit-discussion-higher-education-study-i-03-17-2016-11922
END:VEVENT

END:VCALENDAR
