BEGIN:VCALENDAR
VERSION:2.0
PRODID:-//ChamberMaster//Event Calendar 2.0//EN
METHOD:PUBLISH
X-PUBLISHED-TTL:P3D
REFRESH-INTERVAL:P3D
CALSCALE:GREGORIAN
BEGIN:VEVENT
DTSTART;VALUE=DATE:20170306
DTEND;VALUE=DATE:20170318
TRANSP:TRANSPARENT
X-MICROSOFT-CDO-ALLDAYEVENT:TRUE
SUMMARY:Live Mural Painting at Podges!
DESCRIPTION:Come and grab a bite to eat and a smoothie and watch a live mural painting by Hattas Public Murals! \n\n\n\nMarch 6-8\n\n9 am - 6 pm\n\n\n\nMarch 13-17\n\n9 am - 6 pm
X-ALT-DESC;FMTTYPE=text/html:Come and grab a bite to eat and a smoothie and watch a live mural painting by <strong>Hattas&nbsp\;Public Murals</strong>!&nbsp\;<br />\n<br />\n<strong>March 6-8</strong><br />\n9 am - 6 pm<br />\n<br />\n<strong>March 13-17</strong><br />\n9 am - 6 pm<br />\n&nbsp\;
LOCATION:Podges Claremont Juice Co. 124 N. Yale Claremont\, Ca 91711
UID:e.838.15512
SEQUENCE:3
DTSTAMP:20260424T151135Z
URL:https://business.claremontchamber.org/events/details/live-mural-painting-at-podges-15512
END:VEVENT

END:VCALENDAR
