BEGIN:VCALENDAR
VERSION:2.0
PRODID:-//ChamberMaster//Event Calendar 2.0//EN
METHOD:PUBLISH
X-PUBLISHED-TTL:P3D
REFRESH-INTERVAL:P3D
CALSCALE:GREGORIAN
BEGIN:VEVENT
DTSTART:20230810T190000Z
DTEND:20230810T200000Z
X-MICROSOFT-CDO-ALLDAYEVENT:FALSE
SUMMARY:Lunch & Learn - Super Mortgage Bros
DESCRIPTION:Topic: Business tools you didn't learn in school.- Best practices to scale your business\n\n\n\nSpeaker - Armando Novelo
X-ALT-DESC;FMTTYPE=text/html:<span style="font-size:14px\;"><span style="font-family:arial\;">Topic:&nbsp\;Business tools you didn&rsquo\;t learn in school.- Best practices to scale your business<br />\n<br />\nSpeaker - Armando Novelo</span></span>
LOCATION:Chamber Board Room 205 Yale Ave. Claremont\, CA 91711
UID:e.838.42884
SEQUENCE:3
DTSTAMP:20260423T082416Z
URL:https://business.claremontchamber.org/events/details/lunch-learn-super-mortgage-bros-42884
END:VEVENT

END:VCALENDAR
