BEGIN:VCALENDAR
VERSION:2.0
PRODID:-//ChamberMaster//Event Calendar 2.0//EN
METHOD:PUBLISH
X-PUBLISHED-TTL:P3D
REFRESH-INTERVAL:P3D
CALSCALE:GREGORIAN
BEGIN:VEVENT
DTSTART:20171214T180000Z
DTEND:20171214T193000Z
X-MICROSOFT-CDO-ALLDAYEVENT:FALSE
SUMMARY:Make Your Website Work for You
DESCRIPTION:The University of La Verne SBDC is pleased to partner with Google to\n\npresent this workshop on how to "Make Your Website Work for you."\n\nMAKE YOUR WEBSITE\n\nWORK FOR YOU - PRESENTED\n\nBY GOOGLE\n\nPlan\, create or recreate your site to accomplish your business goals.\n\nLearn what makes a great website & how to target your audience.\n\nUnderstand how to enhance functionality across devices\, best website\n\npractices and more!
X-ALT-DESC;FMTTYPE=text/html:The University of La Verne SBDC is pleased to partner with Google to<br />\npresent this workshop on how to &quot\;Make Your Website Work for you.&quot\;<br />\nMAKE YOUR WEBSITE<br />\nWORK FOR YOU - PRESENTED<br />\nBY GOOGLE<br />\nPlan\, create or recreate your site to accomplish your business goals.<br />\nLearn what makes a great website &amp\; how to target your audience.<br />\nUnderstand how to enhance functionality across devices\, best website<br />\npractices and more!
LOCATION:Campus Center\, Third Floor 2000 2nd St La Verne\, CA 91750
UID:e.838.17202
SEQUENCE:3
DTSTAMP:20260423T091514Z
URL:https://business.claremontchamber.org/events/details/make-your-website-work-for-you-17202
END:VEVENT

END:VCALENDAR
