BEGIN:VCALENDAR
VERSION:2.0
PRODID:-//ChamberMaster//Event Calendar 2.0//EN
METHOD:PUBLISH
X-PUBLISHED-TTL:P3D
REFRESH-INTERVAL:P3D
CALSCALE:GREGORIAN
BEGIN:VEVENT
DTSTART:20180415T150000Z
DTEND:20180415T190000Z
X-MICROSOFT-CDO-ALLDAYEVENT:FALSE
SUMMARY:McKinley's Color Fun 'n Run
DESCRIPTION:McKinley Children's Center to Host Inaugural "Color Fun 'n Run"\n\nSave the date for a very special day of fitness and philanthropy! On Sunday April 15\, nonprofit organizations McKinley Children's Center and A Friend in Me will be hosting the inaugural Color Fun 'n Run. \n\n\n\nJoin McKinley and A Friend in Me as they run (or walk) through McKinley Children's Center's San Dimas campus\, making their way through giant inflatable obstacles\, and getting showered with colors. Be sure to wear all-white for what is sure to be a colorful day.   Proceeds from the run will benefit two nonprofits working hard to improve the lives of local children. \n\n\n\nMcKinley Children's Center is a leader in compassionately transforming the lives of youth and families through innovative education\, counseling\, and social services.  McKinley provides immediate and long-term attention to children who have been abused and neglected.  A private\, non-profit organization with a residential treatment center\, non-public school\, Foster homes\, and a rich complement of mental health services\, the Center helps society's most emotionally injured youth heal from traumatic experiences. \n\n\n\nA Friend in Me is a Non-Profit Organization providing support and care for pediatric cancer patients and their families. A Friend In Me strives to bring patients and their families some comfort with friendly\, social activities which they otherwise would not have the opportunity to participate in.\n\nEntry is $35 and includes a T-Shirt and custom swag bag.  If you are interested in participating in this event\, visit: https://runsignup.com/Race/CA/SanDimas/ColorFunnRun2018.  If you are interested in sponsoring the event or volunteering\, please contact Rhonda Beltran at beltranr@mckinleycc.org or 909-670-1577 or Crystal Robbertze at robbertzec@mckinleycc.org or 909-670-1572.
X-ALT-DESC;FMTTYPE=text/html:<strong><span style="font-family: times new roman\,serif\;"><span style="font-size: 12pt\;">McKinley Children&rsquo\;s Center to Host Inaugural &ldquo\;Color Fun &lsquo\;n Run&rdquo\;</span></span></strong><br />\n<span style="font-family: times new roman\,serif\;"><span style="font-size: 12pt\;">Save the date for a very special day of fitness and philanthropy! On Sunday April 15\, nonprofit organizations McKinley Children&rsquo\;s Center and A Friend in Me will be hosting the inaugural Color Fun &lsquo\;n Run. </span></span><br />\n<br />\n<span style="font-family: times new roman\,serif\;"><span style="font-size: 12pt\;">Join McKinley and A Friend in Me as they run (or walk) through McKinley Children&rsquo\;s Center&rsquo\;s San Dimas campus\, making their way through giant inflatable obstacles\, and getting showered with colors. Be sure to wear all-white for what is sure to be a colorful day.&nbsp\; &nbsp\;Proceeds from the run will benefit two nonprofits working hard to improve the lives of local children. </span></span><br />\n<br />\n<span style="font-family: times new roman\,serif\;"><span style="font-size: 12pt\;">McKinley Children&rsquo\;s Center is a leader in compassionately transforming the lives of youth and families through innovative education\, counseling\, and social services.&nbsp\; McKinley provides immediate and long-term attention to children who have been abused and neglected.&nbsp\; A private\, non-profit organization with a residential treatment center\, non-public school\, Foster homes\, and a rich complement of mental health services\, the Center helps society&rsquo\;s most emotionally injured youth heal from traumatic experiences. </span></span><br />\n<br />\n<span style="font-family: times new roman\,serif\;"><span style="font-size: 12pt\;">A Friend in Me is a Non-Profit Organization providing support and care for pediatric cancer patients and their families. A Friend In Me strives to bring patients and their families some comfort with friendly\, social activities which they otherwise would not have the opportunity to participate in.</span></span><br />\n<span style="font-family: times new roman\,serif\;"><span style="font-size: 12pt\;">Entry is $35 and includes a T-Shirt and custom swag bag. &nbsp\;If you are interested in participating in this event\, visit: </span></span><a href="https://runsignup.com/Race/CA/SanDimas/ColorFunnRun2018" target="_blank"><span style="color: rgb(17\, 85\, 204)\;"><span style="font-family: times new roman\,serif\;"><span style="font-size: 12pt\;">https://runsignup.com/Race/CA/SanDimas/ColorFunnRun2018</span></span></span></a><span style="font-family: times new roman\,serif\;"><span style="font-size: 12pt\;">.&nbsp\; If you are interested in sponsoring the event or volunteering\, please contact Rhonda Beltran at </span></span><a href="mailto:beltranr@mckinleycc.org"><span style="font-family: times new roman\,serif\;"><span style="font-size: 12pt\;">beltranr@mckinleycc.org</span></span></a><span style="font-family: times new roman\,serif\;"><span style="font-size: 12pt\;"> or 909-670-1577 or Crystal Robbertze at </span></span><a href="mailto:robbertzec@mckinleycc.org"><span style="font-family: times new roman\,serif\;"><span style="font-size: 12pt\;">robbertzec@mckinleycc.org</span></span></a><span style="font-family: times new roman\,serif\;"><span style="font-size: 12pt\;"> or 909-670-1572. </span></span>
LOCATION:McKinley Children's Center's Main Campus\, 762 West Cypress Street\, San Dimas\, CA 91773
UID:e.838.17776
SEQUENCE:3
DTSTAMP:20260422T100658Z
URL:https://business.claremontchamber.org/events/details/mckinley-s-color-fun-n-run-17776
END:VEVENT

END:VCALENDAR
