BEGIN:VCALENDAR
VERSION:2.0
PRODID:-//ChamberMaster//Event Calendar 2.0//EN
METHOD:PUBLISH
X-PUBLISHED-TTL:P3D
REFRESH-INTERVAL:P3D
CALSCALE:GREGORIAN
BEGIN:VEVENT
DTSTART:20180913T210000Z
DTEND:20180914T030000Z
X-MICROSOFT-CDO-ALLDAYEVENT:FALSE
SUMMARY:Middle Tree Open House
DESCRIPTION:Free Event. "GET YOUR MOM & DAD TIME BACK!" Join us for our Middle Tree Annual Open House to learn more about our affordable\, flexible and personalized Education Supplement programs. K-12 & adult Tutoring\, SAT Prep\, College Counseling and more. Affordable monthly memberships\, no appointments or time limits. Many tutors available\, find one that fits your students learning style and needs.\n\n\n\nLet Middle Tree take the tears and frustration out of homework time so you can enjoy being parents again!\n\nWe hope to see you there.
X-ALT-DESC;FMTTYPE=text/html:Free Event. &quot\;GET YOUR MOM &amp\; DAD TIME BACK!&quot\; Join us for our Middle Tree Annual Open House to learn more about our affordable\, flexible and personalized Education Supplement programs. K-12 &amp\; adult Tutoring\, SAT Prep\, College Counseling and more. Affordable monthly memberships\, no appointments or time limits. Many tutors available\, find one that fits your students learning style and needs.<br />\n<br />\nLet Middle Tree take the tears and frustration out of homework time so you can enjoy being parents again!<br />\nWe hope to see you there.<br />\n<br />\n&nbsp\;
LOCATION:250 W. First Street\, Suite 210 Claremont\, CA 91711
UID:e.838.20169
SEQUENCE:3
DTSTAMP:20260421T180515Z
URL:https://business.claremontchamber.org/events/details/middle-tree-open-house-20169
END:VEVENT

END:VCALENDAR
