BEGIN:VCALENDAR
VERSION:2.0
PRODID:-//ChamberMaster//Event Calendar 2.0//EN
METHOD:PUBLISH
X-PUBLISHED-TTL:P3D
REFRESH-INTERVAL:P3D
CALSCALE:GREGORIAN
BEGIN:VEVENT
DTSTART:20160916T000000Z
DTEND:20160916T020000Z
X-MICROSOFT-CDO-ALLDAYEVENT:FALSE
SUMMARY:Multi Chamber of Commerce Happy Hour
DESCRIPTION:Multi Chamber of Commerce Happy Hour\n\n\n\nOakmont of San Antonio Heights is pleased to be hosting the\n\nMulti-Chamber of Commerce Happy Hour at our beautiful Community.\n\n\n\nCome enjoy a relaxed evening of networking with Claremont\, Rancho Cucamonga and Upland Chambers in our beautiful setting and sample an array of freshly made appetizers by our outstanding culinary team.
X-ALT-DESC;FMTTYPE=text/html:<strong><em>Multi Chamber of Commerce Happy Hour</em></strong><br />\n<br />\nOakmont of San Antonio Heights is pleased to be hosting the<br />\nMulti-Chamber of Commerce Happy Hour at our beautiful Community.<br />\n<br />\nCome enjoy a relaxed evening of networking with Claremont\, Rancho Cucamonga and Upland Chambers in our beautiful setting and sample an array of freshly made appetizers by our outstanding culinary team.
LOCATION:Assisted Living & Memory Care Oakmont of San Antonio Heights 2419 N Euclid Ave Upland\, CA 91784
UID:e.838.12477
SEQUENCE:3
DTSTAMP:20260425T033539Z
URL:https://business.claremontchamber.org/events/details/multi-chamber-of-commerce-happy-hour-09-15-2016-12477
END:VEVENT

END:VCALENDAR
