BEGIN:VCALENDAR
VERSION:2.0
PRODID:-//ChamberMaster//Event Calendar 2.0//EN
METHOD:PUBLISH
X-PUBLISHED-TTL:P3D
REFRESH-INTERVAL:P3D
CALSCALE:GREGORIAN
BEGIN:VEVENT
DTSTART:20180730T023000Z
DTEND:20180730T040000Z
X-MICROSOFT-CDO-ALLDAYEVENT:FALSE
SUMMARY:Musings & Microbrews
DESCRIPTION:Trust us...you won't want to miss this special event!  Claremont United Chuch of Christ is hosting an evening of music\, food\, and fun at Claremont Craft Ales on Sunday\, July 29 at 7:30 pm.  \n\n\n\nCome enjoy live music from the band 200 West\, a food truck from Pelligrino's Authentic Italian Food\, a short musing from Pastor Jacob\, and a wonderful evening of fellowship!\n\nLive music and food will begin at 7:30 pm\, Pastor Jacob will lead "Do We Even Need Religion?" at 8:00 pm\, then the music will resume at 8:20 pm! \n\n\n\nKids\, dogs\, and outside food are welcome.  We hope to see you there!
X-ALT-DESC;FMTTYPE=text/html:<p><span style="font-family:arial\,helvetica\,sans-serif"><span style="color:black"><span style="font-size:12.0pt">Trust us...you won&rsquo\;t want to miss this special event!&nbsp\; Claremont United Chuch of Christ is hosting&nbsp\;an evening of music\, food\, and fun at Claremont Craft Ales on Sunday\, July 29 at 7:30 pm.&nbsp\; </span></span><br />\n<br />\n<span style="color:black"><span style="font-size:12.0pt">Come enjoy live music from the band 200 West\, a food truck from Pelligrino&rsquo\;s Authentic Italian Food\, a short musing from Pastor Jacob\, and a wonderful evening of fellowship!</span></span><br />\n<span style="color:black"><span style="font-size:12.0pt">Live music and food will begin at 7:30 pm\, Pastor Jacob will lead &ldquo\;Do We Even Need Religion?&rdquo\; at 8:00 pm\, then the music will resume at 8:20 pm!&nbsp\;<br />\n<br />\nKids\, dogs\, and outside food are welcome.&nbsp\; We hope to see you there!</span></span><br />\n&nbsp\;</span></p>\n
LOCATION:Claremont Craft Ales 1420 N Claremont Blvd #204c Claremont\, CA 91711
UID:e.838.19578
SEQUENCE:3
DTSTAMP:20260422T030910Z
URL:https://business.claremontchamber.org/events/details/musings-microbrews-19578
END:VEVENT

END:VCALENDAR
