BEGIN:VCALENDAR
VERSION:2.0
PRODID:-//ChamberMaster//Event Calendar 2.0//EN
METHOD:PUBLISH
X-PUBLISHED-TTL:P3D
REFRESH-INTERVAL:P3D
CALSCALE:GREGORIAN
BEGIN:VEVENT
DTSTART:20180428T180000Z
DTEND:20180428T210000Z
X-MICROSOFT-CDO-ALLDAYEVENT:FALSE
SUMMARY:Nothing Bundt Cakes - First Anniversary
DESCRIPTION:Join us to celebrate our first anniversary!  Bundtlets are just $2 each with coupon for a limited time while supplies last.  Enjoy music provided by DJ from 11 a.m. - 1 p.m.
X-ALT-DESC;FMTTYPE=text/html:Join us to celebrate our first anniversary!&nbsp\; Bundtlets are just $2 each with coupon for a limited time while supplies last.&nbsp\; Enjoy music provided by DJ from 11 a.m. - 1 p.m.<span style="font-family:arial\,sans-serif\;"><span style="font-size:12.0pt\;">&nbsp\;</span></span>
LOCATION:La Verne Plaza 2084 Foothill Blvd.\, Suite H La Verne\, CA 91750
UID:e.838.18869
SEQUENCE:3
DTSTAMP:20260422T100638Z
URL:https://business.claremontchamber.org/events/details/nothing-bundt-cakes-first-anniversary-18869
END:VEVENT

END:VCALENDAR
