BEGIN:VCALENDAR
VERSION:2.0
PRODID:-//ChamberMaster//Event Calendar 2.0//EN
METHOD:PUBLISH
X-PUBLISHED-TTL:P3D
REFRESH-INTERVAL:P3D
CALSCALE:GREGORIAN
BEGIN:VEVENT
DTSTART:20170221T220000Z
DTEND:20170221T233000Z
X-MICROSOFT-CDO-ALLDAYEVENT:FALSE
SUMMARY:Nutrition Talk for People with Cancer
DESCRIPTION:This event is sponsored by PVHMC.\n\n \n\nNancee Perez\, Registered Dietitian will discuss nutritional strategies during and after cancer treatment.
X-ALT-DESC;FMTTYPE=text/html:<em>This event is sponsored by PVHMC.</em><br />\n&#8203\;<br />\nNancee Perez\, Registered Dietitian will discuss nutritional strategies during and after cancer treatment.&nbsp\;
LOCATION:The Robert & Beverly Lewis Family Cancer Care Center 1910 Royalty Dr Pomona\, Ca
UID:e.838.14916
SEQUENCE:3
DTSTAMP:20260424T200006Z
URL:https://business.claremontchamber.org/events/details/nutrition-talk-for-people-with-cancer-14916
END:VEVENT

END:VCALENDAR
