BEGIN:VCALENDAR
VERSION:2.0
PRODID:-//ChamberMaster//Event Calendar 2.0//EN
METHOD:PUBLISH
X-PUBLISHED-TTL:P3D
REFRESH-INTERVAL:P3D
CALSCALE:GREGORIAN
BEGIN:VEVENT
DTSTART:20180519T030000Z
DTEND:20180519T050000Z
X-MICROSOFT-CDO-ALLDAYEVENT:FALSE
SUMMARY:Ophelia's Jump presents “And Tell Sad Stories of the Deaths of Queens (and Other Tales)" by Tennessee Williams
DESCRIPTION:Ophelia's Jump Productions presents And Tell Sad Stories of the Deaths of Queens (and other tales)\, a stunning collection of rarely produced one act plays by Tennessee Williams. The production will be performed at the Ophelia's Jump Studio\, located at 2009 Porterfield Way\, Suite H\, in Upland\, from May 18 - June 9\, 2018. A preview performances will be held on May 17. \n\nAbout And Tell Sad Stories of the Deaths of Queens (and other tales):\n\nThe greatest playwright of the American South\, Tennessee Williams used his talent throughout his life to create brief plays exploring many of the themes that dominated his best-known works. From the indefatigable\, witty and tough drag queens of And Tell Sad Stories of the Deaths of Queens... to the disheartened poet Mister Paradise\, these are tales of isolated figures struggling against a cruel world\, who refuse to lose sight of their dreams.\n\n"Deaths of Queens" as we call it\, is an evening of theatre featuring 6 one-acts that explore the eternal conflict between the creative/chaotic and the orderly/pragmatic. A common theme in Tennessee Williams's works\, these short pieces are populated by characters who follow their dreams\, passions\, and internal voices to funny\, absurd\, poignant\, and sometimes tragic extremes. Several of the pieces are self-referential as the artist\, Tennessee Williams\, wrote to expiate and understand the devils and muses in his own life.\n\nOJP Theatre for Good\n\nOphelia's Jump's THEATRE FOR GOOD program seeks to partner with local non-profits to help them raise funds. As part of this production\, OJP THEATRE FOR GOOD will raise money to help Soroptimists International of Baldy View to empower women through grants for education and training. Donations will be collected at all performances. In addition\, a portion of all tickets purchased for the June 2nd performance will go to the Soroptimists.  \n\n \nDirection: Beatrice Casagran - Founding Artistic Director\, Dexter Rogers - Artistic Company Member and Nicki Heskin - Artistic Company Member\n\nFeaturing: (in alphabetical order)  Susan Bray\, Dani Bustamante\, Taylor Carlisle\, Beatrice Casagran\, Max Herzfeld\, Vahan Okanayan\, Christopher Sands and Alexander Walters
X-ALT-DESC;FMTTYPE=text/html:<p>Ophelia&#39\;s Jump Productions presents <em>And Tell Sad Stories of the Deaths of Queens (and other tales)</em>\, a stunning collection of rarely produced one act plays by Tennessee Williams. The production will be performed at the Ophelia&#39\;s Jump Studio\, located at 2009 Porterfield Way\, Suite H\, in Upland\, from May 18 - June 9\, 2018. A preview performances will be held on May 17.&nbsp\;</p>\n\n<p><u><strong>About <em>And Tell Sad Stories of the Deaths of Queens (and other tales)</em>:</strong></u><br />\nThe greatest playwright of the American South\, Tennessee Williams used his talent throughout his life to create brief plays exploring many of the themes that dominated his best-known works. From the indefatigable\, witty and tough drag queens of <em>And Tell Sad Stories of the Deaths of Queens.</em>.. to the disheartened poet Mister Paradise\, these are tales of isolated figures struggling against a cruel world\, who refuse to lose sight of their dreams.</p>\n\n<p>&quot\;Deaths of Queens&quot\; as we call it\, is an evening of theatre featuring 6 one-acts that explore the eternal conflict between the creative/chaotic and the orderly/pragmatic. A common theme in Tennessee Williams&#39\;s works\, these short pieces are populated by characters who follow their dreams\, passions\, and internal voices to funny\, absurd\, poignant\, and sometimes tragic extremes. Several of the pieces are self-referential as the artist\, Tennessee Williams\, wrote to expiate and understand the devils and muses in his own life.</p>\n\n<p><u><strong>OJP Theatre for Good</strong></u><br />\nOphelia&#39\;s Jump&#39\;s THEATRE FOR GOOD program seeks to partner with local non-profits to help them raise funds. As part of this production\, OJP THEATRE FOR GOOD&nbsp\;will raise money to help Soroptimists International of Baldy View to&nbsp\;empower women through grants for education and training. Donations will be collected at all performances. In addition\, a portion of all tickets purchased for the June 2nd performance will go to the Soroptimists. &nbsp\;<br />\n&nbsp\;</p>\n<strong>Direction: </strong>Beatrice Casagran - Founding Artistic Director\, Dexter Rogers - Artistic Company Member and Nicki Heskin - Artistic Company Member<br />\n<strong>Featuring: (in alphabetical order)&nbsp\; </strong>Susan Bray\, Dani Bustamante\, Taylor Carlisle\, Beatrice Casagran\, Max Herzfeld\, Vahan Okanayan\, Christopher Sands and Alexander Walters\n\n<div>&nbsp\;</div>\n
LOCATION:2009 Porterfield Way\, Suite H\, Upland (across from Last Name Brewing)
UID:e.838.18884
SEQUENCE:3
DTSTAMP:20260422T055212Z
URL:https://business.claremontchamber.org/events/details/ophelia-s-jump-presents-and-tell-sad-stories-of-the-deaths-of-queens-and-other-tales-by-tennessee-williams-18884
END:VEVENT

END:VCALENDAR
