BEGIN:VCALENDAR
VERSION:2.0
PRODID:-//ChamberMaster//Event Calendar 2.0//EN
METHOD:PUBLISH
X-PUBLISHED-TTL:P3D
REFRESH-INTERVAL:P3D
CALSCALE:GREGORIAN
BEGIN:VEVENT
DTSTART:20260329T230000Z
DTEND:20260330T010000Z
X-MICROSOFT-CDO-ALLDAYEVENT:FALSE
SUMMARY:Ophelia's Jump presents IN THE GREEN - a new musical
DESCRIPTION:In The Green- a new musical by Grace McLean\n\nMarch 6-29\, 2026\n\nDirected by Beatrice Casagr n\n\nMusic Direction by Ronda Rubio\n\nIN THE GREEN  tells the origin story of one of Medieval history's most powerful and creative women: Hildegard von Bingen. Before she became a healer\, a composer\, an exorcist\, and finally a saint\, she was a young girl locked in a cell with her mentor\, Jutta. This new musical by Grace McLean is the tale of two women and the journey that leads one to embrace death\, and the other to celebrate the beauty and blemishes of a fully lived life.\n\n\n\nIN THE GREEN was commissioned by LCT3 and received a production at the Claire Tow Theater at Lincoln Center June8-August 4\, 2019. Winner of the 2020 Richard Rodgers Award.\n\nThis musical includes adult themes. Parental guidance is recommended for children under 13 years old.
X-ALT-DESC;FMTTYPE=text/html:<p style="text-align:center"><strong>In The Green- a new musical by Grace McLean</strong></p>\n\n<p style="text-align:center"><strong>March 6-29\, 2026</strong></p>\n\n<p>Directed by Beatrice Casagr&aacute\;n</p>\n\n<p>Music Direction by Ronda Rubio</p>\n\n<p><em><strong>IN THE GREEN &nbsp\;</strong></em>tells the origin story of one of Medieval history&#39\;s most powerful and creative women: Hildegard von Bingen. Before she became a healer\, a composer\, an exorcist\, and finally a saint\, she was a young girl locked in a cell with her mentor\, Jutta. This new musical by Grace McLean is the tale of two women and the journey that leads one to embrace death\, and the other to celebrate the beauty and blemishes of a fully lived life.<br />\n<br />\n<strong><em>IN THE GREEN&nbsp\;was commissioned by LCT3 and received a production at the Claire Tow Theater at Lincoln Center June8-August 4\, 2019. Winner of the 2020 Richard Rodgers Award.</em></strong></p>\n\n<p>This musical includes adult themes. Parental guidance is recommended for children under 13 years old.&nbsp\;</p>\n\n<p>&nbsp\;</p>\n
LOCATION:Ophelia's Jump Studio 2009 Porterfield Way\, Suite I Upland\, CA
UID:e.838.48754
SEQUENCE:3
DTSTAMP:20260419T134546Z
URL:https://business.claremontchamber.org/events/details/ophelia-s-jump-presents-in-the-green-a-new-musical-03-29-2026-48754
END:VEVENT

END:VCALENDAR
