BEGIN:VCALENDAR
VERSION:2.0
PRODID:-//ChamberMaster//Event Calendar 2.0//EN
METHOD:PUBLISH
X-PUBLISHED-TTL:P3D
REFRESH-INTERVAL:P3D
CALSCALE:GREGORIAN
BEGIN:VEVENT
DTSTART:20170129T040000Z
DTEND:20170129T060000Z
X-MICROSOFT-CDO-ALLDAYEVENT:FALSE
SUMMARY:Ophelia's Jump presents QUILTERS
DESCRIPTION:This event is sponsored by Ophelia's Jump Productions.\n\n\n\nOphelia's Jump Productions announces the launch of their fifth season with Quilters written by Barbara Damashek and Molly Newman. The multi-Tony Award nominated musical production plays this month at The Theatre Company Performing Arts Studio in Upland. Quilters features stirring folk music performed live by traditional instruments.\n\nAbout QUILTERS:\n\nBased on the narratives of real women\, this moving celebration of American Womanhood became a record-setting regional theater success before its presentations on Broadway and at the Edinburgh Festival. Combining music\, dance movement and scenes of vivid dramatic intensity\, the play pays eloquent tribute to the courage and spirit of our nation's pioneer women. \n\nOriginally presented by The Denver Theater Company\, Quilters opened on Broadway in 1984 and was nominated for six Tony Awards\, including Best Musical. The play is based on the book The Quilters: Women and Domestic Art by Patricia Cooper and Norma Bradley.\n\n\n\n \n\n\n	Title: QUILTERS - Music and lyrics by Barbara Damashek. Book by Molly Newman and Barbara Damashek (Based on The Quilters: Women and Domestic Arts by Patricia Cooper and Norma Bradley Allen)\n	Direction/Choreography: Beatrice Casagran\, Aly Easton\, Jenny Lockwood\, Caitlin Lopez\n	Music Director: Janette Combs\n	Featuring: (in alphabetical order)  Beatrice Casagran\, Aly Easton\, Shannon Galuszka\, Jenny Lockwood\, Caitlin Lopez\, Cynthia Meade and Janelle Kester.\n	Location: The Theatre Company Performing Arts Studio\, 1400 N. Benson Ave\, Upland \n	Run: January 27   February 5\, 2017\n	QUILTERS is produced through special arrangement with Dramatists Play Service.
X-ALT-DESC;FMTTYPE=text/html:<p><em>This event is&nbsp\;sponsored&nbsp\;by Ophelia&#39\;s Jump Productions.</em><br />\n<br />\nOphelia&rsquo\;s Jump Productions announces the launch of their fifth season with&nbsp\;<em>Quilters</em>&nbsp\;written by Barbara Damashek and Molly Newman. The multi-Tony Award nominated musical production plays this month at The Theatre Company Performing Arts Studio in Upland.&nbsp\;<em>Quilters</em>&nbsp\;features stirring folk music performed live by traditional instruments.</p>\n\n<p><u><strong>About&nbsp\;<em>QUILTERS</em>:</strong></u></p>\n\n<p>Based on the narratives of real women\, this moving celebration of American Womanhood became a record-setting regional theater success before its presentations on Broadway and at the Edinburgh Festival. Combining music\, dance movement and scenes of vivid dramatic intensity\, the play pays eloquent tribute to the courage and spirit of our nation&#39\;s pioneer women.&nbsp\;</p>\n\n<p>Originally presented by The Denver Theater Company\,&nbsp\;<em>Quilters</em>&nbsp\;opened on Broadway in 1984 and was nominated for six Tony Awards\, including Best Musical. The play is based on the book&nbsp\;<em>The Quilters: Women and Domestic Art by Patricia Cooper and Norma Bradley</em>.<br />\n<br />\n&nbsp\;</p>\n\n<ul>\n	<li><strong>Title: QUILTERS - Music and lyrics by Barbara Damashek. Book by Molly Newman and Barbara Damashek</strong>&nbsp\;(Based on&nbsp\;<em>The Quilters: Women and Domestic Arts</em>&nbsp\;by Patricia Cooper and Norma Bradley Allen)</li>\n	<li><strong>Direction/Choreography:&nbsp\;</strong>Beatrice Casagran\, Aly Easton\, Jenny Lockwood\, Caitlin Lopez</li>\n	<li><strong>Music Director:</strong>&nbsp\;Janette Combs</li>\n	<li><strong>Featuring: (in alphabetical order)&nbsp\;&nbsp\;</strong>Beatrice Casagran\, Aly Easton\, Shannon Galuszka\, Jenny Lockwood\, Caitlin Lopez\, Cynthia Meade and Janelle Kester.</li>\n	<li><strong>Location:&nbsp\;</strong>The Theatre Company Performing Arts Studio\, 1400 N. Benson Ave\, Upland&nbsp\;</li>\n	<li><strong>Run:&nbsp\;</strong>January 27 &ndash\; February 5\, 2017</li>\n	<li><em>QUILTERS</em>&nbsp\;is produced through special arrangement with Dramatists Play Service.</li>\n</ul>\n
LOCATION:Theatre Company Performing Arts Studio\, 1400 N. Benson Ave\, Upland
UID:e.838.14725
SEQUENCE:3
DTSTAMP:20260424T170712Z
URL:https://business.claremontchamber.org/events/details/ophelia-s-jump-presents-quilters-01-28-2017-14725
END:VEVENT

END:VCALENDAR
