BEGIN:VCALENDAR
VERSION:2.0
PRODID:-//ChamberMaster//Event Calendar 2.0//EN
METHOD:PUBLISH
X-PUBLISHED-TTL:P3D
REFRESH-INTERVAL:P3D
CALSCALE:GREGORIAN
BEGIN:VEVENT
DTSTART:20180902T030000Z
DTEND:20180902T050000Z
X-MICROSOFT-CDO-ALLDAYEVENT:FALSE
SUMMARY:Ophelia's Jump presents "Short People" a sketch comedy show
DESCRIPTION:After the hilarious and successful "Feminine Mystake" sketch show that we presented in our first season\, we've all wanted to bring a full length comedy sketch show back into our season. We are super excited to be able to do so in 2018. A full length show made up of a variety of original sketches co-written by a group of talented young writers. Satirical\, absurd\, whimsical\, thought provoking (maybe) and always hilarious!\n\nAbout Short People:\n\nA young girl's obsession with defining herself leads to a sexual identity crisis via board game.A boy dreams of what it would be like to be in a band and soon finds his inappropriate voice in Riot Grrrl music. Written by a team of young comedians and improvisors\, Short People\, follows their childhood dreams and musings from the pages of their diaries onto the stage as adults.
X-ALT-DESC;FMTTYPE=text/html:<p>After the hilarious and successful &ldquo\;Feminine Mystake&rdquo\; sketch show that we presented in our first season\, we&rsquo\;ve all wanted to bring a full length comedy sketch show back into our season. We are super excited to be able to do so in 2018. A full length show made up of a variety of original sketches co-written by a group of talented young writers. Satirical\, absurd\, whimsical\, thought provoking (maybe) and always hilarious!</p>\n\n<p><u>About Short People:</u><br />\nA young girl&rsquo\;s obsession with defining herself leads to a sexual identity crisis via board game.A boy dreams of what it would be like to be in a band and soon finds his inappropriate voice in Riot Grrrl music. Written by a team of young comedians and improvisors\, Short People\, follows their childhood dreams and musings from the pages of their diaries onto the stage as adults.</p>\n
LOCATION:Ophelia's Jump Studio 2009 Porterfield Way\, Suite H\, Upland\, CA
UID:e.838.20156
SEQUENCE:3
DTSTAMP:20260421T165142Z
URL:https://business.claremontchamber.org/events/details/ophelia-s-jump-presents-short-people-a-sketch-comedy-show-09-01-2018-20156
END:VEVENT

END:VCALENDAR
