BEGIN:VCALENDAR
VERSION:2.0
PRODID:-//ChamberMaster//Event Calendar 2.0//EN
METHOD:PUBLISH
X-PUBLISHED-TTL:P3D
REFRESH-INTERVAL:P3D
CALSCALE:GREGORIAN
BEGIN:VEVENT
DTSTART:20161219T000000Z
DTEND:20161219T020000Z
X-MICROSOFT-CDO-ALLDAYEVENT:FALSE
SUMMARY:Ophelia's Jump presents The Electric Baby by Stefanie Zadravec
DESCRIPTION:Ophelia's Jump presents \n\nTHE ELECTRIC BABY \n\nby Stefanie Zadravec\n\nDirected by Beatrice Casagran\n\nAssistant Director Aly Easton\n\n \n\nDecember 9\, 8pm\n\nDecember 10\, 3pm & 8pm\n\nDecember 11\, 4pm\n\nDecember 16\, 8pm\n\nDecember 17\, 3pm & 8pm\n\nDecember 18\, 4pm\n\n\n\n \n\nWhen Helen causes a car accident that kills a young man\, \n\na group of fractured souls cross paths and connect \n\naround a mysterious dying baby who glows like the moon. \n\n\n\nFolk tales and folklore weave throughout this magical story \n\nof sad endings\, strange beginnings and the unlikely people \n\nthat get you from one place to the next.\n\n\n\n\n\n\n\n"The imperceptible magic that pervades human existence and the power of myth to assuage sorrow are invoked by the playwright Stefanie Zadravec as she entwines the lives of strangers in THE ELECTRIC BABY\, a touching new drama." \n\n NY Times\n\n\n\n\n\n"This surreal show functions like an adult pop-up book [a] mix of fun and surprise." \n\n The Week\n\n\n\n\n\n"Sometimes even a critic is charmed into analytical silence. No\, make that enthralled and also warned. Not that I can't think of ways to explain THE ELECTRIC BABY\, but even if I were right\, it might dull both its delicacy and its strength." \n\n Pittsburgh Post-Gazette\n\n\n\n\n\n"While it delves deeply into loss\, Zadravec's rich\, lyrical play is far from a dirge. Inflected with humor and folklore\, it expounds on the stories\, memories and relationship that become a refuge when staying up nights with a sick baby or lying in a hospital bed." \n\n Star Ledger (New Jersey)
X-ALT-DESC;FMTTYPE=text/html:<div>\n<div>\n<p><span style="font-size:12px\;">Ophelia&#39\;s Jump presents&nbsp\;<br />\n<span style="color:rgb(0\, 128\, 0)"><strong>THE ELECTRIC BABY&nbsp\;</strong></span><br />\nby Stefanie Zadravec<br />\nDirected by Beatrice Casagran<br />\nAssistant Director Aly Easton</span></p>\n\n<p>&nbsp\;</p>\n\n<p><span style="font-size:12px\;">December 9\, 8pm</span></p>\n\n<p><span style="font-size:12px\;">December 10\, 3pm &amp\; 8pm<br />\nDecember 11\, 4pm<br />\nDecember 16\, 8pm<br />\nDecember 17\, 3pm &amp\; 8pm<br />\nDecember 18\, 4pm</span></p>\n\n<p><br />\n&nbsp\;</p>\n\n<p style="background-color: rgb(238\, 238\, 238)\; border: 1px solid rgb(204\, 204\, 204)\; padding: 5px 10px\;"><span style="font-size:12px\;">When Helen causes a car accident that kills a young man\,&nbsp\;<br />\na group of fractured souls cross paths and connect&nbsp\;<br />\naround a mysterious dying baby who glows like the moon.&nbsp\;<br />\n<br />\nFolk tales and folklore weave throughout this magical story&nbsp\;<br />\nof sad endings\, strange beginnings and the unlikely people&nbsp\;<br />\nthat get you from one place to the next.</span></p>\n\n<p><br />\n<br />\n<br />\n<span style="font-size:12px\;"><span style="color:rgb(105\, 105\, 105)">&quot\;The imperceptible magic that pervades human existence and the power of myth to assuage sorrow are invoked by the playwright Stefanie Zadravec as she entwines the lives of strangers in THE ELECTRIC BABY\, a touching new drama.&quot\;&nbsp\;<br />\n&mdash\;NY Times<br />\n<br />\n<br />\n&quot\;This surreal show functions like an adult pop-up book&hellip\;[a] mix of fun and surprise.&quot\;&nbsp\;<br />\n&mdash\;The Week<br />\n<br />\n<br />\n&quot\;Sometimes even a critic is charmed into analytical silence. No\, make that enthralled and also warned. Not that I can&#39\;t think of ways to explain THE ELECTRIC BABY\, but even if I were right\, it might dull both its delicacy and its strength.&quot\;&nbsp\;<br />\n&mdash\;Pittsburgh Post-Gazette<br />\n<br />\n<br />\n&quot\;While it delves deeply into loss\, Zadravec&#39\;s rich\, lyrical play is far from a dirge. Inflected with humor and folklore\, it expounds on the stories\, memories and relationship that become a refuge when staying up nights with a sick baby or lying in a hospital bed.&quot\;&nbsp\;<br />\n&mdash\;Star Ledger (New Jersey)</span></span></p>\n</div>\n</div>\n\n<p>&nbsp\;</p>\n
LOCATION:The Theatre Company Performing Arts Studio 1400 N Benson\, Upland
UID:e.838.14081
SEQUENCE:3
DTSTAMP:20260424T215946Z
URL:https://business.claremontchamber.org/events/details/ophelia-s-jump-presents-the-electric-baby-by-stefanie-zadravec-12-18-2016-14081
END:VEVENT

END:VCALENDAR
