BEGIN:VCALENDAR
VERSION:2.0
PRODID:-//ChamberMaster//Event Calendar 2.0//EN
METHOD:PUBLISH
X-PUBLISHED-TTL:P3D
REFRESH-INTERVAL:P3D
CALSCALE:GREGORIAN
BEGIN:VEVENT
DTSTART:20160207T040000Z
DTEND:20160207T060000Z
X-MICROSOFT-CDO-ALLDAYEVENT:FALSE
SUMMARY:Ophelia's Jump presents: VANYA and SONIA and MASHA and SPIKE
DESCRIPTION:Ophelia's Jump Productions opens its 4th season with Christopher Durang's 2013 Tony award winning play\, Vanya and Sonia and Masha and Spike\, directed by company co-founder\, Caitlin Lopez. The production plays February 5-21\, 2016 at The Theatre Company Performing Arts Studio\, 1400 N. Benson\, Upland.\n\nIn Vanya and Sonia and Masha and Spike\, master of comedy\, Christopher Durang\, takes characters and themes from Chekhov\, pours them into a blender and mixes them up. The utterly hilarious and occasionally touching result is his latest play set in present day Bucks County\, Pennsylvania.\n\n\n\nVanya and his stepsister Sonia have lived their entire lives in their family's farmhouse. While they stayed home to take care of their ailing parents\, their sister Masha has been gallivanting around the world as a successful actress and movie star\, leaving Vanya and Sonia to feel trapped and regretful. Their soothsayer/cleaning woman Cassandra keeps warning them about terrible things in the future\, which include a sudden visit from Masha and her twenty-something boy toy Spike. \n\n"Rarely has middle-aged despair over dashed dreams and squandered hopes been put to more hilarious effect than in 'Vanya and Sonia and Masha and Spike\,' Christopher Durang's giddy farce on Chekhovian themes that won the Tony for best play."                                                                                   -  Charles McNulty\, LA Times\n\n \n\nCelebrate Valentine's Day Weekend with Ophelia's Jump\n\nPerformances on Friday\, February 13 and February 14 (Valentine's Day) will include a hilarious pre-show Valentine's themed improvisational comedy performance which includes a drink and dessert. You won't want to miss this special event\, performed as by members of the Ophelia's Jump troupe.\n\nTickets for these special performances are only $35.
X-ALT-DESC;FMTTYPE=text/html:<p>Ophelia&rsquo\;s Jump Productions opens its 4th season with Christopher Durang&rsquo\;s 2013 Tony award winning play\, <strong><em>Vanya and Sonia and Masha and Spike\, </em></strong>directed by company co-founder\, Caitlin Lopez. The production plays February 5-21\, 2016 at The Theatre Company Performing Arts Studio\, 1400 N. Benson\, Upland.</p>\n\n<p>In<em> </em><strong><em>Vanya and Sonia and Masha and Spike</em></strong>\, master of comedy\, Christopher Durang\, takes characters and themes from Chekhov\, pours them into a blender and mixes them up. The utterly hilarious and occasionally touching result is his latest play set in present day Bucks County\, Pennsylvania.<br />\n<br />\nVanya and his stepsister Sonia have lived their entire lives in their family&#39\;s farmhouse. While they stayed home to take care of their ailing parents\, their sister Masha has been gallivanting around the world as a successful actress and movie star\, leaving Vanya and Sonia to feel trapped and regretful. Their soothsayer/cleaning woman Cassandra keeps warning them about terrible things in the future\, which include a sudden visit from Masha and her twenty-something boy toy Spike.&nbsp\;</p>\n\n<p><strong>&ldquo\;Rarely has middle-aged despair over dashed dreams and squandered hopes been put to more hilarious effect than in &lsquo\;Vanya and Sonia and Masha and Spike\,&rsquo\; Christopher Durang&#39\;s giddy farce on Chekhovian themes that won the Tony for best play.&rdquo\; &nbsp\; &nbsp\; &nbsp\;&nbsp\;&nbsp\; &nbsp\;&nbsp\;&nbsp\; &nbsp\;&nbsp\;&nbsp\; &nbsp\;&nbsp\;&nbsp\; &nbsp\;&nbsp\;&nbsp\; &nbsp\;&nbsp\;&nbsp\; &nbsp\;&nbsp\;&nbsp\; &nbsp\;&nbsp\;&nbsp\; &nbsp\;&nbsp\;&nbsp\; &nbsp\;&nbsp\;&nbsp\; &nbsp\;&nbsp\;&nbsp\; &nbsp\;&nbsp\;&nbsp\; &nbsp\;&nbsp\;&nbsp\; &nbsp\;&nbsp\;&nbsp\; &nbsp\;&nbsp\;&nbsp\; &nbsp\;&nbsp\;&nbsp\; &nbsp\;&nbsp\;&nbsp\; &nbsp\;&nbsp\;&nbsp\; &nbsp\;&nbsp\;&nbsp\; &nbsp\; -&nbsp\; Charles McNulty\, LA Times</strong></p>\n\n<p>&nbsp\;</p>\n\n<p><strong><em>Celebrate Valentine&rsquo\;s Day Weekend with Ophelia&rsquo\;s Jump</em></strong></p>\n\n<p>Performances on Friday\, February 13 and February 14 (Valentine&rsquo\;s Day) will include a hilarious pre-show Valentine&rsquo\;s themed improvisational comedy performance which includes a drink and dessert. You won&rsquo\;t want to miss this special event\, performed as by members of the Ophelia&rsquo\;s Jump troupe.</p>\n\n<p>Tickets for these special performances are only $35.</p>\n
LOCATION:The Theatre Company Performing Arts Studio\, 1400 N. Benson Ave\, Upland
UID:e.838.11827
SEQUENCE:3
DTSTAMP:20260425T230147Z
URL:https://business.claremontchamber.org/events/details/ophelia-s-jump-presents-vanya-and-sonia-and-masha-and-spike-02-06-2016-11827
END:VEVENT

END:VCALENDAR
