BEGIN:VCALENDAR
VERSION:2.0
PRODID:-//ChamberMaster//Event Calendar 2.0//EN
METHOD:PUBLISH
X-PUBLISHED-TTL:P3D
REFRESH-INTERVAL:P3D
CALSCALE:GREGORIAN
BEGIN:VEVENT
DTSTART:20170216T000000Z
DTEND:20170216T020000Z
X-MICROSOFT-CDO-ALLDAYEVENT:FALSE
SUMMARY:Our 1st Annual “Valenteer” Party!
DESCRIPTION:This event is sponsored by Children's Foundation of America.\n\n\n\nWe LOVE Our Volunteers!\n\nYou are cordially invited to a Volunteer Appreciation reception at our office so we can get to know each other better!\n\nCome meet the entire Foundation staff\, members of the board of trustees and\n\nother volunteers. We'll update you on our upcoming events and celebrate the\n\nsuccesses of the past year.\n\n\n\nDifferent volunteer opportunities include the following:\n\n	Events: To staff events\n\n\n\n	Event Preparation: To help prepare materials for events\n\n\n\n	Awareness Campaigns: To assist with the preparation of materials and outreach\n\n\n\n	Informational tables and booths: To help disseminate information\n\n\n\n	Holiday Heroes Gift Wrapping Booth: To assist with gift wrapping for fundraising purposes\n\n\n\n	Care Package Assembly: To assist with assembling packages of items for children\n\nDoor prizes! Goodie bags! Snacks and beverages!\n\nBring a friend to share the LOVE!
X-ALT-DESC;FMTTYPE=text/html:<em>This event is sponsored by Children&#39\;s Foundation of America.</em><br />\n<br />\n<strong>We LOVE Our Volunteers!</strong><br />\nYou are cordially invited to a Volunteer Appreciation reception at our office so we can get to know each other better!<br />\nCome meet the entire Foundation staff\, members of the board of trustees and<br />\nother volunteers. We&rsquo\;ll update you on our upcoming events and celebrate the<br />\nsuccesses of the past year.<br />\n<br />\nDifferent volunteer opportunities include the following:\n<ul>\n	<li>Events: To staff events</li>\n</ul>\n\n<ul>\n	<li>Event Preparation: To help prepare materials for events</li>\n</ul>\n\n<ul>\n	<li>Awareness Campaigns: To assist with the preparation of materials and outreach</li>\n</ul>\n\n<ul>\n	<li>Informational tables and booths: To help disseminate information</li>\n</ul>\n\n<ul>\n	<li>Holiday Heroes Gift Wrapping Booth: To assist with gift wrapping for fundraising purposes</li>\n</ul>\n\n<ul>\n	<li>Care Package Assembly: To assist with assembling packages of items for children</li>\n</ul>\n<strong>Door prizes! Goodie bags! Snacks and beverages!</strong><br />\n<strong>Bring a friend to share the LOVE!</strong>
LOCATION:175 N. Indian Hill Blvd. Ste. B-200 Claremont\, CA 91711
UID:e.838.15064
SEQUENCE:3
DTSTAMP:20260424T194045Z
URL:https://business.claremontchamber.org/events/details/our-1st-annual-valenteer-party-15064
END:VEVENT

END:VCALENDAR
