BEGIN:VCALENDAR
VERSION:2.0
PRODID:-//ChamberMaster//Event Calendar 2.0//EN
METHOD:PUBLISH
X-PUBLISHED-TTL:P3D
REFRESH-INTERVAL:P3D
CALSCALE:GREGORIAN
BEGIN:VEVENT
DTSTART:20151101T190000Z
DTEND:20151102T000000Z
X-MICROSOFT-CDO-ALLDAYEVENT:FALSE
SUMMARY:Padua Hills Art Fiesta
DESCRIPTION:The 12th Annual Padua Hills Art Fiesta is presented by the Claremont Museum of Art. Look for many new faces at the outdoor art show\, watch art and craft demonstrations\, enjoy music\, tacos and more. The recently produced film "Design for Modern Living" will be shown throughout the day and the exhibition "Millard Sheets: Hills and Horses" will feature paintings\, drawings and lithographs from the years that Sheets lived and worked in Padua Hills in the 1940s-60s.\n\n\n\nSome local residents still recall the popular Padua Hills Art Fiesta held through the 1950s. Since 2011\, the Claremont Museum of Art has continued the tradition with Claremont area artists showing their work under the shady olive trees of the beautifully restored Padua Hills Theatre.
X-ALT-DESC;FMTTYPE=text/html:The 12th Annual Padua Hills Art Fiesta is presented by the Claremont Museum of Art. Look for many new faces at the outdoor art show\, watch art and craft demonstrations\, enjoy music\, tacos and more. The recently produced film "Design for Modern Living" will be shown throughout the day and the exhibition "Millard Sheets: Hills and Horses" will feature paintings\, drawings and lithographs from the years that Sheets lived and worked in Padua Hills in the 1940s-60s.<br>\n<br>\nSome local residents still recall the popular Padua Hills Art Fiesta held through the 1950s. Since 2011\, the Claremont Museum of Art has continued the tradition with Claremont area artists showing their work under the shady olive trees of the beautifully restored Padua Hills Theatre.
LOCATION:Padua Hills Theatre\, 4467 Padua Ave.\, Claremont
UID:e.838.9126
SEQUENCE:3
DTSTAMP:20260426T035749Z
URL:https://business.claremontchamber.org/events/details/padua-hills-art-fiesta-11-01-2015-9126
END:VEVENT

END:VCALENDAR
