BEGIN:VCALENDAR
VERSION:2.0
PRODID:-//ChamberMaster//Event Calendar 2.0//EN
METHOD:PUBLISH
X-PUBLISHED-TTL:P3D
REFRESH-INTERVAL:P3D
CALSCALE:GREGORIAN
BEGIN:VEVENT
DTSTART:20180602T150000Z
DTEND:20180602T180000Z
X-MICROSOFT-CDO-ALLDAYEVENT:FALSE
SUMMARY:Pancakes with a Cop
DESCRIPTION:Pancakes With A Cop Event\n\nClaremont\, CA   On Saturday\, June 2\, 2018\, the Claremont Police Department will be holding a "Coffee with a Cop" event. "Coffee with a Cop" events have been hosted in all 50 states and is one of the most successful community-oriented policing programs across the country.  The program has also expanded outside the United States to Canada\, Europe\, Australia\, and Africa.  \n\nThe event scheduled for June 2\, 2018\, will have a slight twist as the Police Department will be hosting a pancake breakfast along with coffee. The breakfast will consist of pancakes hot off the griddle made by police department personnel\, sausage\, fresh fruit\, juice\, and of course\, coffee.  There will also be police vehicles on display and games for the kids.\n\nThe event will be held at Memorial Park\, 840 N. Indian Hill Blvd. Volunteering members of the police department will be present to serve you. There will also be members of the police department present to answer questions or clarify facts about Measure "SC" or "Safe Claremont"\, which is a General Obligation bond to finance the construction of a new Police facility.\n\nPart of the Claremont Police Department's Strategic Vision is Community Outreach and "Coffee with a Cop" is one way for police officers to build relationships with the community members\, one cup of coffee at a time. The majority of contacts law enforcement has with the public occur during emergencies or emotional situations. Those situations are not always the most effective time for relationship building and some community members may feel officers are unapproachable on the street. \n\n"Coffee with a Cop" provides a unique opportunity for community members to ask questions and learn more about the Claremont Police Department through relaxed\, one-on-one interactions. There is no agenda\, no guest speaker and no power point presentation: just coffee and conversation. \n\nPlease join us on Saturday\, June 2nd from 8:00 AM-11:00 AM at Memorial Park\, 840 N. Indian Hill Blvd. \n\nIf you have any questions\, please contact Sergeant Robert Ewing at the Claremont Police Department 909-399-5411.
X-ALT-DESC;FMTTYPE=text/html:<strong><span style="font-family:arial\,sans-serif\;"><span style="font-size:16.0pt\;">Pancakes With A Cop Event</span></span></strong><br />\n<em>Claremont\, CA </em>&ndash\; <span style="color:black\;">On Saturday\, June 2\, 2018\, the Claremont Police Department will be holding a &ldquo\;Coffee with a Cop&rdquo\; event. &ldquo\;Coffee with a Cop&rdquo\; events have been hosted in all 50 states and is one of the most successful community-oriented policing programs across the country.&nbsp\; The program has also expanded outside the United States to Canada\, Europe\, Australia\, and Africa.&nbsp\; </span><br />\n<span style="color:black\;">The event scheduled for June 2\, 2018\, will have a slight twist as the Police Department will be hosting a pancake breakfast along with coffee. The breakfast will consist of pancakes hot off the griddle made by police department personnel\, sausage\, fresh fruit\, juice\, and of course\, coffee.&nbsp\; There will also be police vehicles on display and games for the kids.</span><br />\n<span style="color:black\;">The event will be held at Memorial Park\, 840 N. Indian Hill Blvd. Volunteering members of the police department will be present to serve you. There will also be members of the police department present to answer questions or clarify facts about Measure &ldquo\;SC&rdquo\; or &ldquo\;Safe Claremont&rdquo\;\, which is a General Obligation bond to finance the construction of a new Police facility.</span><br />\n<span style="color:black\;">Part of the Claremont Police Department&rsquo\;s Strategic Vision is Community Outreach and &ldquo\;Coffee with a Cop&rdquo\; is one way for police officers to build relationships with the community members\, one cup of coffee at a time. The majority of contacts law enforcement has with the public occur during emergencies or emotional situations. Those situations are not always the most effective time for relationship building and some community members may feel officers are unapproachable on the street. </span><br />\n<span style="color:black\;">&ldquo\;Coffee with a Cop&rdquo\; provides a unique opportunity for community members to ask questions and learn more about the Claremont Police Department through relaxed\, one-on-one interactions. There is no agenda\, no guest speaker and no power point presentation: just coffee and conversation. </span><br />\n<span style="color:black\;">Please join us on Saturday\, June 2nd from 8:00 AM-11:00 AM at Memorial Park\, 840 N. Indian Hill Blvd. </span><br />\n<span style="color:black\;">If you have any questions\, please contact Sergeant Robert Ewing at the Claremont Police Department 909-399-5411.</span>
LOCATION:Memorial Park\, 840 N. Indian Hill Blvd
UID:e.838.18905
SEQUENCE:3
DTSTAMP:20260422T050303Z
URL:https://business.claremontchamber.org/events/details/pancakes-with-a-cop-18905
END:VEVENT

END:VCALENDAR
