BEGIN:VCALENDAR
VERSION:2.0
PRODID:-//ChamberMaster//Event Calendar 2.0//EN
METHOD:PUBLISH
X-PUBLISHED-TTL:P3D
REFRESH-INTERVAL:P3D
CALSCALE:GREGORIAN
BEGIN:VEVENT
DTSTART:20181021T230000Z
DTEND:20181022T010000Z
X-MICROSOFT-CDO-ALLDAYEVENT:FALSE
SUMMARY:Phantom of the Opera Silent Movie w/ Live Organ
DESCRIPTION:The CUCC Organ Task Force invites you to a special concert on Sunday\, October 21 at 4:00 pm in the Sanctuary.  We will be screening the 1925 classic film\, Phantom of the Opera\, with live organ accompaniment by internationally renowned organist David Briggs on our very own Glatter-Goetz Rosales organ.  You won't want to miss this!  Tickets are available for purchase at the door or online at brownpapertickets.com.  ($20/adults\, $15/seniors\, $5/students\, 10 and under free!)
X-ALT-DESC;FMTTYPE=text/html:<p><span style="font-size:14px"><span style="font-family:arial\,helvetica\,sans-serif">The CUCC Organ Task Force invites you to a special concert on Sunday\, October 21 at 4:00 pm in the Sanctuary.&nbsp\; We will be screening the 1925 classic film\, <em>Phantom of the Opera</em>\, with live organ accompaniment by internationally renowned organist David Briggs on our very own Glatter-Goetz Rosales organ.&nbsp\; You won&rsquo\;t want to miss this!&nbsp\; Tickets are available for purchase at the door or online at <em>brownpapertickets.com</em>.&nbsp\; ($20/adults\, $15/seniors\, $5/students\, 10 and under free!)<br />\n&nbsp\;</span></span></p>\n
LOCATION:Claremont United Church of Christ 233 W. Harrison Ave. Claremont\, CA 91711
UID:e.838.20299
SEQUENCE:3
DTSTAMP:20260421T105042Z
URL:https://business.claremontchamber.org/events/details/phantom-of-the-opera-silent-movie-w-live-organ-20299
END:VEVENT

END:VCALENDAR
