BEGIN:VCALENDAR
VERSION:2.0
PRODID:-//ChamberMaster//Event Calendar 2.0//EN
METHOD:PUBLISH
X-PUBLISHED-TTL:P3D
REFRESH-INTERVAL:P3D
CALSCALE:GREGORIAN
BEGIN:VEVENT
DTSTART:20160716T160000Z
DTEND:20160716T180000Z
X-MICROSOFT-CDO-ALLDAYEVENT:FALSE
SUMMARY:Pickling 101
DESCRIPTION:What's new? What's hot? Pickling! Don't miss the opportunity to learn this easy and fun culinary art. We are going to have a fun filled morning learning the basics of refrigerator pickling\, complete with a "pickling kit" to take home.
X-ALT-DESC;FMTTYPE=text/html:<span style="font-size:14px"><span style="font-family:arial\,helvetica\,sans-serif">What&rsquo\;s new? What&rsquo\;s hot? Pickling! Don&rsquo\;t miss the opportunity to learn this easy and fun&nbsp\;culinary art. We are going to have a fun filled morning learning the basics of refrigerator&nbsp\;pickling\, complete with a &quot\;pickling kit&quot\; to take home.</span></span>
LOCATION:vomFASS Claremont 101 N. Indian Hill Blvd Suite C2-100 (enter on 1st street) Claremont\, CA 91711 Tel: (909) 399-0256 info@vomfassclaremont.com
UID:e.838.12049
SEQUENCE:3
DTSTAMP:20260426T035103Z
URL:https://business.claremontchamber.org/events/details/pickling-101-07-16-2016-12049
END:VEVENT

END:VCALENDAR
