BEGIN:VCALENDAR
VERSION:2.0
PRODID:-//ChamberMaster//Event Calendar 2.0//EN
METHOD:PUBLISH
X-PUBLISHED-TTL:P3D
REFRESH-INTERVAL:P3D
CALSCALE:GREGORIAN
BEGIN:VEVENT
DTSTART:20161012T010000Z
DTEND:20161012T030000Z
X-MICROSOFT-CDO-ALLDAYEVENT:FALSE
SUMMARY:Pros & Cons of the Ballot Measures by League of Women Voters
DESCRIPTION:This event is sponsored by League of Women Voters.\n\n\n\nPros and Cons of the Ballot Measures on the November 8 Election will be presented by the League of Women Voters. on Tuesday\, October 11\, at 6:00 PM. in the Claremont Library General Meeting Room (208 Harvard Ave.\, Claremont)   Arguments For and Against on California Propositions 51 through 67\, L A County Measures A and M\, and Claremont Unified School District Measure G will be included.  The League's Voter Guide for LA County and Easy Voter Guide will be available.  This event is free and the public is welcome.  For information:  league@claremont.ca.lwvnet.org  or 909-624-9457.
X-ALT-DESC;FMTTYPE=text/html:<p><span style="font-family:arial\;"><em>This event is sponsored by League of Women Voters.</em><br />\n<br />\n<strong>Pros and Cons of the Ballot Measures on the November 8 Election </strong>will be presented by the League of Women Voters. on Tuesday\, October 11\, at 6:00 PM. in the Claremont Library General Meeting Room (208 Harvard Ave.\, Claremont) &nbsp\;&nbsp\;Arguments For and Against on California Propositions 51 through 67\, L A County Measures A and M\, and Claremont Unified School District Measure G will be included.&nbsp\; The League&rsquo\;s Voter Guide for LA County and Easy Voter Guide will be available. &nbsp\;This event is free and the public is welcome.&nbsp\; For information:&nbsp\; league@claremont.ca.lwvnet.org&nbsp\; or 909-624-9457.</span></p>\n
LOCATION:Claremont Library General Meeting Room 208 Harvard Ave Claremont Ca 91711
UID:e.838.13629
SEQUENCE:3
DTSTAMP:20260425T005354Z
URL:https://business.claremontchamber.org/events/details/pros-cons-of-the-ballot-measures-by-league-of-women-voters-13629
END:VEVENT

END:VCALENDAR
