BEGIN:VCALENDAR
VERSION:2.0
PRODID:-//ChamberMaster//Event Calendar 2.0//EN
METHOD:PUBLISH
X-PUBLISHED-TTL:P3D
REFRESH-INTERVAL:P3D
CALSCALE:GREGORIAN
BEGIN:VEVENT
DTSTART:20151009T003000Z
DTEND:20151009T023000Z
X-MICROSOFT-CDO-ALLDAYEVENT:FALSE
SUMMARY:PVW Annual Mixer
DESCRIPTION:Oktoberfest 2015\n\n\n\nCome celebrate with the Chambers of Chino Valley\, Claremont\, Irwindale\, Montclair\, Ontario\, Pomona\, Upland and Chapters of TEAM Referral Network
X-ALT-DESC;FMTTYPE=text/html:Oktoberfest 2015<br />\n<br />\nCome celebrate with the Chambers of Chino Valley\, Claremont\, Irwindale\, Montclair\, Ontario\, Pomona\, Upland and Chapters of TEAM Referral Network
LOCATION:DoubleTree by Hilton Claremont 555 West Foothill Blvd. Claremont CA 91711
UID:e.838.9130
SEQUENCE:3
DTSTAMP:20260426T035128Z
URL:https://business.claremontchamber.org/events/details/pvw-annual-mixer-10-08-2015-9130
END:VEVENT

END:VCALENDAR
