BEGIN:VCALENDAR
VERSION:2.0
PRODID:-//ChamberMaster//Event Calendar 2.0//EN
METHOD:PUBLISH
X-PUBLISHED-TTL:P3D
REFRESH-INTERVAL:P3D
CALSCALE:GREGORIAN
BEGIN:VEVENT
DTSTART;VALUE=DATE:20161130
DTEND;VALUE=DATE:20161201
TRANSP:TRANSPARENT
X-MICROSOFT-CDO-ALLDAYEVENT:TRUE
SUMMARY:Reduce Your Inflammation by 40% in 30 Days!
DESCRIPTION:This event is sponsored by The Body Center Physical Therapy.\n\n\n\nJoin us for a presentation on the health benefits and the science behind Protandim.  It's a natural supplement endorsed by The Body Center!\n\n\n\nJoin us as Yolanda Macias gives a 30-minute informative commentary regarding the advantages of Protandim. She will also be answering any of the questions you may have about the LifeVantage products and how Protandim can be beneficial to your daily life
X-ALT-DESC;FMTTYPE=text/html:<p><em><span style="font-family:arial\;">This event is sponsored by The&nbsp\;</span>Body Center Physical Therapy.</em><br />\n<br />\n<span style="font-family:arial\;">Join us for a presentation on the health benefits and the science behind Protandim.&nbsp\; It&rsquo\;s a natural supplement endorsed by The Body Center!<br />\n<br />\nJoin us as Yolanda Macias gives a 30-minute informative commentary regarding the advantages of&nbsp\;</span>Protandim<span style="font-family: arial\;">. She will also be answering any of the questions you may have about the&nbsp\;</span>LifeVantage<span style="font-family: arial\;">&nbsp\;products and how&nbsp\;</span>Protandim<span style="font-family:arial\;">&nbsp\;can be beneficial to your daily life</span></p>\n\n<table align="left" cellpadding="0" cellspacing="0">\n	<tbody>\n		<tr>\n			<td>\n			<p>&nbsp\;</p>\n			</td>\n		</tr>\n		<tr>\n			<td>\n			<p>&nbsp\;</p>\n			</td>\n			<td>\n			<p>&nbsp\;</p>\n			</td>\n		</tr>\n	</tbody>\n</table>\n
LOCATION:The Body Center Physical Therapy 224 N Indian Hill Blvd Claremont
UID:e.838.14098
SEQUENCE:3
DTSTAMP:20260424T222930Z
URL:https://business.claremontchamber.org/events/details/reduce-your-inflammation-by-40-in-30-days-11-30-2016-14098
END:VEVENT

END:VCALENDAR
