BEGIN:VCALENDAR
VERSION:2.0
PRODID:-//ChamberMaster//Event Calendar 2.0//EN
METHOD:PUBLISH
X-PUBLISHED-TTL:P3D
REFRESH-INTERVAL:P3D
CALSCALE:GREGORIAN
BEGIN:VEVENT
DTSTART:20180124T193000Z
DTEND:20180124T210000Z
X-MICROSOFT-CDO-ALLDAYEVENT:FALSE
SUMMARY:Ribbon Cutting David & Margaret Youth & Family Services
DESCRIPTION:Join us for a joint Ribbon Cutting with the La Verne Chamber to celebrate\n\nDavid & Margaret Youth and Family Services  grand opening of their new Youth Workforce Training Center
X-ALT-DESC;FMTTYPE=text/html:<span style="font-family:calibri\,sans-serif\;"><span style="font-size:11.0pt\;">Join us for a joint Ribbon Cutting with the La Verne Chamber to celebrate<br />\nDavid &amp\; Margaret Youth and Family Services&nbsp\; grand opening of their new Youth Workforce Training Center&nbsp\;</span></span>
LOCATION:1351 Palomores Avenue\, La Verne
UID:e.838.17215
SEQUENCE:3
DTSTAMP:20260423T025116Z
URL:https://business.claremontchamber.org/events/details/ribbon-cutting-david-margaret-youth-family-services-17215
END:VEVENT

END:VCALENDAR
