BEGIN:VCALENDAR
VERSION:2.0
PRODID:-//ChamberMaster//Event Calendar 2.0//EN
METHOD:PUBLISH
X-PUBLISHED-TTL:P3D
REFRESH-INTERVAL:P3D
CALSCALE:GREGORIAN
BEGIN:VEVENT
DTSTART:20180802T190000Z
DTEND:20180802T200000Z
X-MICROSOFT-CDO-ALLDAYEVENT:FALSE
SUMMARY:Ribbon Cutting - Dolce Blossom Boutique
DESCRIPTION:Join us for a ribbon cutting to welcome our new member Dolce Blossom Boutique!\n\nThursday\, August 2 @ 12:00 pm
X-ALT-DESC;FMTTYPE=text/html:Join us for a ribbon cutting to welcome our new member Dolce Blossom Boutique!<br />\nThursday\, August 2 @ 12:00 pm<br />\n<br />\n<br />\n&nbsp\;
LOCATION:216 W Foothill Blvd\, Claremont\, CA 91711
UID:e.838.19620
SEQUENCE:3
DTSTAMP:20260421T231710Z
URL:https://business.claremontchamber.org/events/details/ribbon-cutting-dolce-blossom-boutique-19620
END:VEVENT

END:VCALENDAR
