BEGIN:VCALENDAR
VERSION:2.0
PRODID:-//ChamberMaster//Event Calendar 2.0//EN
METHOD:PUBLISH
X-PUBLISHED-TTL:P3D
REFRESH-INTERVAL:P3D
CALSCALE:GREGORIAN
BEGIN:VEVENT
DTSTART:20151214T200000Z
DTEND:20151214T203000Z
X-MICROSOFT-CDO-ALLDAYEVENT:FALSE
SUMMARY:Ribbon Cutting Ferrari Photography
DESCRIPTION:Join us as we welcome Ferrari Photography as a Chamber Member
X-ALT-DESC;FMTTYPE=text/html:Join us as we welcome <strong><em>Ferrari Photography</em></strong> as a Chamber Member
LOCATION:Claremont Chamber of commerce 205 Yale Ave
UID:e.838.11551
SEQUENCE:3
DTSTAMP:20260426T014433Z
URL:https://business.claremontchamber.org/events/details/ribbon-cutting-ferrari-photography-12-14-2015-11551
END:VEVENT

END:VCALENDAR
