BEGIN:VCALENDAR
VERSION:2.0
PRODID:-//ChamberMaster//Event Calendar 2.0//EN
METHOD:PUBLISH
X-PUBLISHED-TTL:P3D
REFRESH-INTERVAL:P3D
CALSCALE:GREGORIAN
BEGIN:VEVENT
DTSTART:20161207T200000Z
DTEND:20161207T210000Z
X-MICROSOFT-CDO-ALLDAYEVENT:FALSE
SUMMARY:Ribbon Cutting Oke Poke
DESCRIPTION:Join us in a special Ribbon Cutting for our new Chamber Member\, Oke Poke Claremont!\n\n \n\n \n\nPoke is a classic Hawaiian dish comprised of sliced\, raw fish and various mix-ins. Poke is the Hawaiian verb for 'section' or to 'slice or cut.' It is a staple dish.\n\n \n\nTheir 'Oke' version of Poke shares similar characteristics\, but with more of a variety. Poke bowls are customizable\, fresh & a must try!\n\n \n\n!
X-ALT-DESC;FMTTYPE=text/html:<p><span style="font-size:14px\;"><span style="font-family:arial\;">Join us in a special Ribbon Cutting for our new Chamber Member\,&nbsp\;</span></span><span style="font-size:14px\;"><span style="font-family:arial\;"><strong>Oke Poke Claremont</strong>!</span></span></p>\n\n<p>&nbsp\;</p>\n\n<p>&nbsp\;</p>\n\n<p><span style="font-size:14px\;"><span style="font-family:arial\;">Poke</span></span><span style="font-size:14px\;"><span style="font-family:arial\;"> is a classic Hawaiian dish comprised of sliced\, raw fish and various mix-ins. Poke is the Hawaiian verb for &#39\;section&#39\; or to &#39\;slice or cut.&#39\; It is a staple dish.</span></span></p>\n\n<p>&nbsp\;</p>\n\n<p><span style="font-size:14px\;"><span style="font-family:arial\;">Their &#39\;Oke&#39\; version of Poke shares similar characteristics\, but with more of a variety. Poke bowls are customizable\, fresh &amp\; a must try!</span></span></p>\n\n<p class="font_8" style="margin: 0px\; padding: 0px\; border: 0px\; outline: 0px\; vertical-align: baseline\; background: transparent\; font-stretch: normal\; font-size: 18px\; line-height: 1.8em\; font-family: helvetica-w01-light\, helvetica-w02-light\, sans-serif\; color: rgb(74\, 76\, 103)\; text-align: center\;">&nbsp\;</p>\n\n<p class="font_8" style="margin: 0px\; padding: 0px\; border: 0px\; outline: 0px\; vertical-align: baseline\; background: transparent\; font-stretch: normal\; font-size: 18px\; line-height: 1.8em\; font-family: helvetica-w01-light\, helvetica-w02-light\, sans-serif\; color: rgb(74\, 76\, 103)\; text-align: center\;"><span style="margin: 0px\; padding: 0px\; border: 0px\; outline: 0px\; vertical-align: baseline\; background: transparent\;"><span style="margin: 0px\; padding: 0px\; border: 0px\; outline: 0px\; vertical-align: baseline\; background: transparent\; font-family: avenir-lt-w01_35-light1475496\, sans-serif\;"><span style="margin: 0px\; padding: 0px\; border: 0px\; outline: 0px\; vertical-align: baseline\; background: transparent\; letter-spacing: 0.1em\;"><span class="color_11" style="margin: 0px\; padding: 0px\; border: 0px\; outline: 0px\; vertical-align: baseline\; background: transparent\; color: rgb(254\, 253\, 254)\;">!</span></span></span></span></p>\n
LOCATION:405 West Foothill Blvd #103 Claremont\, CA 91711
UID:e.838.14100
SEQUENCE:3
DTSTAMP:20260424T195749Z
URL:https://business.claremontchamber.org/events/details/ribbon-cutting-oke-poke-14100
END:VEVENT

END:VCALENDAR
