BEGIN:VCALENDAR
VERSION:2.0
PRODID:-//ChamberMaster//Event Calendar 2.0//EN
METHOD:PUBLISH
X-PUBLISHED-TTL:P3D
REFRESH-INTERVAL:P3D
CALSCALE:GREGORIAN
BEGIN:VEVENT
DTSTART:20151207T200000Z
DTEND:20151207T203000Z
X-MICROSOFT-CDO-ALLDAYEVENT:FALSE
SUMMARY:Ribbon Cutting Retro Fitness
DESCRIPTION:Join us as we welcome Retro Fitness as a Chamber Member
X-ALT-DESC;FMTTYPE=text/html:Join us as we welcome <strong><em>Retro Fitness</em></strong> as a Chamber Member
LOCATION:675 E Foothill Blvd Pomona
UID:e.838.11549
SEQUENCE:3
DTSTAMP:20260426T001352Z
URL:https://business.claremontchamber.org/events/details/ribbon-cutting-retro-fitness-12-07-2015-11549
END:VEVENT

END:VCALENDAR
