BEGIN:VCALENDAR
VERSION:2.0
PRODID:-//ChamberMaster//Event Calendar 2.0//EN
METHOD:PUBLISH
X-PUBLISHED-TTL:P3D
REFRESH-INTERVAL:P3D
CALSCALE:GREGORIAN
BEGIN:VEVENT
DTSTART:20180501T003000Z
DTEND:20180501T010000Z
X-MICROSOFT-CDO-ALLDAYEVENT:FALSE
SUMMARY:Ribbon Cutting The Poke Company
DESCRIPTION:Join us for a ribbon cutting to welcome our new member!\n\nThe Poke Company\n\nMonday April 30 @ 5:30 pm
X-ALT-DESC;FMTTYPE=text/html:Join us for a ribbon cutting to welcome our new member!<br />\nThe Poke Company<br />\nMonday April 30 @ 5:30 pm<br />\n<br />\n<br />\n&nbsp\;
LOCATION:363 W. Bonita Ave Claremont
UID:e.838.18874
SEQUENCE:3
DTSTAMP:20260422T101429Z
URL:https://business.claremontchamber.org/events/details/ribbon-cutting-the-poke-company-18874
END:VEVENT

END:VCALENDAR
