BEGIN:VCALENDAR
VERSION:2.0
PRODID:-//ChamberMaster//Event Calendar 2.0//EN
METHOD:PUBLISH
X-PUBLISHED-TTL:P3D
REFRESH-INTERVAL:P3D
CALSCALE:GREGORIAN
BEGIN:VEVENT
DTSTART:20180830T003000Z
DTEND:20180830T013000Z
X-MICROSOFT-CDO-ALLDAYEVENT:FALSE
SUMMARY:Ribbon Cutting Tupelo Pointe Healing Arts
DESCRIPTION:Join us for a ribbon cutting to welcome our new member Tupelo Pointe Healing Arts
X-ALT-DESC;FMTTYPE=text/html:<span style="color: rgb(51\, 51\, 51)\; font-family: sans-serif\, Arial\, Verdana\, &quot\;Trebuchet MS&quot\;\; font-size: 13px\; background-color: rgb(255\, 255\, 255)\;">Join us for a ribbon cutting to welcome our new member Tupelo Pointe Healing Arts</span>
LOCATION:1160 Dewey\, Unit B Upland
UID:e.838.19621
SEQUENCE:3
DTSTAMP:20260421T231622Z
URL:https://business.claremontchamber.org/events/details/ribbon-cutting-tupelo-pointe-healing-arts-19621
END:VEVENT

END:VCALENDAR
