BEGIN:VCALENDAR
VERSION:2.0
PRODID:-//ChamberMaster//Event Calendar 2.0//EN
METHOD:PUBLISH
X-PUBLISHED-TTL:P3D
REFRESH-INTERVAL:P3D
CALSCALE:GREGORIAN
BEGIN:VEVENT
DTSTART:20180613T003000Z
DTEND:20180613T020000Z
X-MICROSOFT-CDO-ALLDAYEVENT:FALSE
SUMMARY:RightSizing: How to Downsize When Moving to a Senior Community
DESCRIPTION:Free Event: Downsizing for your new home can be emotional and stressful for seniors and their families. Come enjoy delicious Sunrise Signature appetizers while Senior Transition Specialist\, Susie Rowan\, compassionately teaches you the fundamentals of "RightSizing". Afterwards we will have a special guided tour of our community highlighting its beautiful and supportive design features.
X-ALT-DESC;FMTTYPE=text/html:<p>Free Event: Downsizing for your new home can be emotional and stressful for seniors and their families. Come enjoy delicious Sunrise Signature appetizers while Senior Transition Specialist\, Susie Rowan\, compassionately teaches you the fundamentals of &quot\;RightSizing&quot\;. Afterwards we will have a special guided tour of our community highlighting its beautiful and supportive design features.</p>\n
LOCATION:Sunrise of Claremont Pitzer House 2053 N. Towne Ave. Claremont\, CA 91711 Parking avaialible in front/back lots and both sides of Baseline Ave.
UID:e.838.18902
SEQUENCE:3
DTSTAMP:20260422T041448Z
URL:https://business.claremontchamber.org/events/details/rightsizing-how-to-downsize-when-moving-to-a-senior-community-18902
END:VEVENT

END:VCALENDAR
