BEGIN:VCALENDAR
VERSION:2.0
PRODID:-//ChamberMaster//Event Calendar 2.0//EN
METHOD:PUBLISH
X-PUBLISHED-TTL:P3D
REFRESH-INTERVAL:P3D
CALSCALE:GREGORIAN
BEGIN:VEVENT
DTSTART:20171116T013000Z
DTEND:20171116T030000Z
X-MICROSOFT-CDO-ALLDAYEVENT:FALSE
SUMMARY:Saca's 25th Anniversary & Ribbon Cutting
DESCRIPTION:Come celebrate Saca's 25th Anniversary and Ribbon Cutting!!
X-ALT-DESC;FMTTYPE=text/html:<br />\nCome celebrate Saca&#39\;s 25th Anniversary and Ribbon Cutting!!
LOCATION:248 Second Street Claremont
UID:e.838.17187
SEQUENCE:3
DTSTAMP:20260423T155845Z
URL:https://business.claremontchamber.org/events/details/saca-s-25th-anniversary-ribbon-cutting-17187
END:VEVENT

END:VCALENDAR
