BEGIN:VCALENDAR
VERSION:2.0
PRODID:-//ChamberMaster//Event Calendar 2.0//EN
METHOD:PUBLISH
X-PUBLISHED-TTL:P3D
REFRESH-INTERVAL:P3D
CALSCALE:GREGORIAN
BEGIN:VEVENT
DTSTART:20170709T160000Z
DTEND:20170709T220000Z
X-MICROSOFT-CDO-ALLDAYEVENT:FALSE
SUMMARY:Save-a-Life Sunday Blood Drive
DESCRIPTION:This event is sponsored by Claremont United Church of Christ.\n\n\n\nClaremont UCC is hosting an American Red Cross Blood Drive on Sunday\, July 9!\n\n\n\nCome celebrate "Save-a-Life Sunday" by donating blood.  Each year the nation faces a shortage of blood donations during the summer...and we're helping to change that!  \n\n\n\nTo make an appointment\, contact the church office at (909) 626-1201 or email us at officemanager@claremontucc.org.
X-ALT-DESC;FMTTYPE=text/html:<span style="font-size:12px\;"><span style="font-family:comic sans ms"><strong><span style="font-family:arial\;"><span style="color:#000000\;">This event is sponsored by Claremont United Church of Christ.</span></span><br />\n<br />\n<span style="color:#FF0000">Claremont UCC is hosting an American Red Cross Blood Drive on Sunday\, July 9!</span></strong><br />\n<br />\nCome celebrate &quot\;Save-a-Life Sunday&quot\; by donating blood. &nbsp\;Each year the nation faces a shortage of blood donations during the summer...and we&#39\;re helping to change that! &nbsp\;<br />\n<br />\n<strong>To make an appointment\, contact the church office at (909) 626-1201 or email us at officemanager@claremontucc.org.</strong></span></span>
LOCATION:Louise Roberts Room Claremont United Church of Christ 233 W. Harrison Ave. Claremont\, CA 91711
UID:e.838.16352
SEQUENCE:3
DTSTAMP:20260424T064156Z
URL:https://business.claremontchamber.org/events/details/save-a-life-sunday-blood-drive-16352
END:VEVENT

END:VCALENDAR
