BEGIN:VCALENDAR
VERSION:2.0
PRODID:-//ChamberMaster//Event Calendar 2.0//EN
METHOD:PUBLISH
X-PUBLISHED-TTL:P3D
REFRESH-INTERVAL:P3D
CALSCALE:GREGORIAN
BEGIN:VEVENT
DTSTART:20171212T023000Z
DTEND:20171212T043000Z
X-MICROSOFT-CDO-ALLDAYEVENT:FALSE
SUMMARY:Save the Metrolink Station Community Meeting
DESCRIPTION:Voice your opinion!!!  Save the Claremont Metro Station!!!\n\nCity representatives have been working with Metro to make sure the community's interests are represented throughout the study process. For more information on the Metrolink Station Study or the Gold Line Extension\, please visit www.claremontca.org/goldline.\n\n\n\nClick Here to Download Letter\n\n\n\nMail letter to:\n\nRegional Rail\n\nMetro MS 99-17-2\n\nOne Gateway Plazq\n\nLos Angeles\, CA 90012
X-ALT-DESC;FMTTYPE=text/html:Voice your opinion!!!&nbsp\; Save the Claremont Metro Station!!!<br />\nCity representatives have been working with Metro to make sure the community&rsquo\;s interests are represented throughout the study process. For more information on the Metrolink Station Study or the Gold Line Extension\, please visit&nbsp\;<a href="http://www.claremontca.org/goldline">www.claremontca.org/goldline</a>.<br />\n<br />\n<u><span style="font-size:36px\;"><strong><a href="https://chambermaster.blob.core.windows.net/userfiles/UserFiles/chambers/838/File/METROLettertoSaveOurStation.docx"><span style="color:#FF0000\;">Click Here to Download Letter</span></a></strong></span></u><br />\n<br />\n<span style="font-size:26px\;">Mail letter to:</span><br />\n<span style="font-size:12.0pt\;">Regional Rail</span><br />\n<span style="font-size:12.0pt\;">Metro MS 99-17-2</span><br />\n<span style="font-size:12.0pt\;">One Gateway Plazq</span><br />\n<span style="font-size:12.0pt\;">Los Angeles\, CA 90012</span><br />\n&nbsp\;
LOCATION:1700 Danbury Rd\, Claremont\, CA 91711-2506
UID:e.838.17208
SEQUENCE:3
DTSTAMP:20260423T091138Z
URL:https://business.claremontchamber.org/events/details/save-the-metrolink-station-community-meeting-17208
END:VEVENT

END:VCALENDAR
