BEGIN:VCALENDAR
VERSION:2.0
PRODID:-//ChamberMaster//Event Calendar 2.0//EN
METHOD:PUBLISH
X-PUBLISHED-TTL:P3D
REFRESH-INTERVAL:P3D
CALSCALE:GREGORIAN
BEGIN:VEVENT
DTSTART:20181002T020000Z
DTEND:20181002T040000Z
X-MICROSOFT-CDO-ALLDAYEVENT:FALSE
SUMMARY:Shane Claiborne: "Tearing Down the Walls"
DESCRIPTION:Come hear renown speaker\, activist\, and best-selling author Shane Claiborne on Monday\, October 1 at 7:00 pm in the Sanctuary.  Join us for live music from Caleb Trask\, a lecture from Shane\, and a Q&A.  \n\n\n\nShane will be speaking on "Tearing Down the Walls."  From picket fences and gated neighborhoods to office cubicles and prison cells\, we live in a world of walls.  We can end up lonely people stuck in the ghettoes of poverty and the ghettoes of affluence.  But God is all about tearing down walls.  We are not alone. Stories of compassion and reconciliation invite us into the promise that the gates will not prevail.  Poverty and injustice become personal\, as we gain the eyes to see the suffering around us.  The Gospel comforts the afflicted and afflicts the comfortable but is good news to all of us.
X-ALT-DESC;FMTTYPE=text/html:<p><span style="font-size:14px"><span style="font-family:arial\,helvetica\,sans-serif"><span style="color:black">Come hear renown speaker\, activist\, and best-selling author Shane Claiborne on Monday\, October 1 at 7:00 pm in the Sanctuary.&nbsp\; Join us for live music from Caleb Trask\, a lecture from Shane\, and a Q&amp\;A.&nbsp\; </span><br />\n<br />\n<span style="color:black">Shane will be speaking on &quot\;Tearing Down the Walls.&rdquo\;&nbsp\; From </span><span style="color:black">picket fences and gated neighborhoods to office cubicles and prison cells\, we live in a world of walls.&nbsp\; We can end up lonely people&hellip\;stuck in the ghettoes of poverty and the ghettoes of affluence.&nbsp\; But God is all about tearing down walls.&nbsp\; We are not alone. Stories of compassion and reconciliation invite us into the promise that the gates will not prevail.&nbsp\; Poverty and injustice become personal\, as we gain the eyes to see the suffering around us.&nbsp\; The Gospel comforts the afflicted and afflicts the comfortable&hellip\;but is good news to all of us. &nbsp\;</span></span></span></p>\n
LOCATION:Claremont United Church of Christ 233 W. Harrison Ave. Claremont\, CA 91711
UID:e.838.20298
SEQUENCE:3
DTSTAMP:20260421T104500Z
URL:https://business.claremontchamber.org/events/details/shane-claiborne-tearing-down-the-walls-20298
END:VEVENT

END:VCALENDAR
