BEGIN:VCALENDAR
VERSION:2.0
PRODID:-//ChamberMaster//Event Calendar 2.0//EN
METHOD:PUBLISH
X-PUBLISHED-TTL:P3D
REFRESH-INTERVAL:P3D
CALSCALE:GREGORIAN
BEGIN:VEVENT
DTSTART:20180701T010000Z
DTEND:20180701T030000Z
X-MICROSOFT-CDO-ALLDAYEVENT:FALSE
SUMMARY:Sip & Pour
DESCRIPTION:Sip & Pour event coming to Dolce Blossom with Lavender Apothecary . Mark your calendars for this special event ?? Limited seating event\, reserve your seat today!
X-ALT-DESC;FMTTYPE=text/html:Sip &amp\; Pour event coming to Dolce Blossom with Lavender Apothecary . Mark your calendars for this special event ?? Limited seating event\, reserve your seat today!
LOCATION:216 W. Foothill Blvd. Claremont CA 91711
UID:e.838.18961
SEQUENCE:3
DTSTAMP:20260422T050051Z
URL:https://business.claremontchamber.org/events/details/sip-pour-18961
END:VEVENT

END:VCALENDAR
