BEGIN:VCALENDAR
VERSION:2.0
PRODID:-//ChamberMaster//Event Calendar 2.0//EN
METHOD:PUBLISH
X-PUBLISHED-TTL:P3D
REFRESH-INTERVAL:P3D
CALSCALE:GREGORIAN
BEGIN:VEVENT
DTSTART:20191206T023000Z
DTEND:20191206T040000Z
X-MICROSOFT-CDO-ALLDAYEVENT:FALSE
SUMMARY:Solar Sales Reinvented
DESCRIPTION:Want to be a part of the clean power\, clean energy movement with solar panels and batteries? You can learn to sell solar panels or simply refer people that go solar and get rewarded for it. This meeting will introduce you to the brand new Powur platform that allows you to sell solar or just refer people that go solar. Please attend this fun event and be a part of the fastest growing market in the new energy economy while experiencing freedom and passive income. \n\n\n\nFor more info watch: https://youtu.be/Ge9HzO1wP-U
X-ALT-DESC;FMTTYPE=text/html:Want to be a part of the clean power\, clean energy movement with solar panels and batteries? You can learn to sell solar panels or simply refer people that go solar and get rewarded for it. This meeting will introduce you to the brand new Powur platform that allows you to sell solar or just refer people that go solar. Please attend this fun event and be a part of the fastest growing market in the new energy economy while experiencing freedom and passive income.&nbsp\;<br />\n<br />\nFor more info watch:&nbsp\;https://youtu.be/Ge9HzO1wP-U
LOCATION:Mr G's Pizza\, 1220 S Diamond Bar Blvd Suite H\, Diamond Bar\, CA 91765
UID:e.838.29902
SEQUENCE:3
DTSTAMP:20260421T231308Z
URL:https://business.claremontchamber.org/events/details/solar-sales-reinvented-29902
END:VEVENT

END:VCALENDAR
