BEGIN:VCALENDAR
VERSION:2.0
PRODID:-//ChamberMaster//Event Calendar 2.0//EN
METHOD:PUBLISH
X-PUBLISHED-TTL:P3D
REFRESH-INTERVAL:P3D
CALSCALE:GREGORIAN
BEGIN:VEVENT
DTSTART:20160919T000000Z
DTEND:20160919T020000Z
X-MICROSOFT-CDO-ALLDAYEVENT:FALSE
SUMMARY:Spanish Guitar Concert
DESCRIPTION:Good Shepherd Music Ministries presents\n\nA Benefit Concert for Good Shepherd Youth and Family Ministry\n\nAromas Espanoles\n\nFeaturing Aaron Copenhaguen with special guests Melissa Copenhaguen\, Alejandro Copenhaguen and Mario Gorito\n\n\n\nThis night will be a compilation of songs from around the world with the Spanish guitar flavor and the different influences from a long journey of over 20 years performing live music  \n\nAaron\, will be playing  personal arrangements of songs by "Vicente Amigo\,"  "Carlos Santana\,"  "Ottmar Libert" and the great "Paco De Lucia"  among others.\n\nThe performance will also include some very well known songs and the musicality of four very talented people on stage\, with the simple goal of sharing the music we love.
X-ALT-DESC;FMTTYPE=text/html:<span style="font-size: 14px\;"><span style="font-family: comic sans ms\;">Good Shepherd Music Ministries presents<br />\nA Benefit Concert for Good Shepherd Youth and Family Ministry<br />\nAromas Espanoles<br />\nFeaturing Aaron Copenhaguen with special guests Melissa Copenhaguen\, Alejandro Copenhaguen and Mario Gorito</span></span><br />\n<br />\n<span style="font-size: 11pt\;"><span style="font-family: comic sans ms\;">This night will be a compilation of songs from around the world with the Spanish guitar flavor and the different influences from a long journey of over 20 years performing live music&hellip\; </span></span><br />\n<span style="font-size: 11pt\;"><span style="font-family: comic sans ms\;">Aaron\, will be playing &nbsp\;personal arrangements of songs by &ldquo\;Vicente Amigo\,&rdquo\;&nbsp\; &ldquo\;Carlos Santana\,&rdquo\;&nbsp\; &ldquo\;Ottmar Libert&rdquo\; and the great &ldquo\;Paco De Lucia&rdquo\;&hellip\; among others.</span></span><br />\n<span style="font-size: 11pt\;"><span style="font-family: comic sans ms\;">The performance will also include some very well known songs and the musicality of four very talented people on stage\, with the simple goal of sharing the music we love.</span></span><br />\n&nbsp\;
LOCATION:Good Shepherd Lutheran Church 1700 N. Towne Ave. Claremont\, CA 91711
UID:e.838.13490
SEQUENCE:3
DTSTAMP:20260425T032720Z
URL:https://business.claremontchamber.org/events/details/spanish-guitar-concert-13490
END:VEVENT

END:VCALENDAR
