BEGIN:VCALENDAR
VERSION:2.0
PRODID:-//ChamberMaster//Event Calendar 2.0//EN
METHOD:PUBLISH
X-PUBLISHED-TTL:P3D
REFRESH-INTERVAL:P3D
CALSCALE:GREGORIAN
BEGIN:VEVENT
DTSTART;VALUE=DATE:20260317
DTEND;VALUE=DATE:20260318
TRANSP:TRANSPARENT
X-MICROSOFT-CDO-ALLDAYEVENT:TRUE
SUMMARY:St. Patrick's Day
DESCRIPTION:Happy St. Patrick's Day!\n\nThe Chamber's Office will be open regular hours.
X-ALT-DESC;FMTTYPE=text/html:Happy St. Patrick&#39\;s Day!<br />\nThe Chamber&#39\;s Office will be open regular hours.
LOCATION:205 Yale Ave\, Claremont\, CA 91711
UID:e.838.48481
SEQUENCE:3
DTSTAMP:20260419T121604Z
URL:https://business.claremontchamber.org/events/details/st-patrick-s-day-48481
END:VEVENT

END:VCALENDAR
