BEGIN:VCALENDAR
VERSION:2.0
PRODID:-//ChamberMaster//Event Calendar 2.0//EN
METHOD:PUBLISH
X-PUBLISHED-TTL:P3D
REFRESH-INTERVAL:P3D
CALSCALE:GREGORIAN
BEGIN:VEVENT
DTSTART:20260319T180000Z
DTEND:20260319T200000Z
X-MICROSOFT-CDO-ALLDAYEVENT:FALSE
SUMMARY:State of the City
DESCRIPTION:Presentation by the Mayor Jennifer Stark & City Council\n\n \n\nThe State of the City Luncheon is the City of Claremont's signature event\, designed to inform and connect the community. Held annually\, this event highlights the latest updates on city initiatives\, projects\, and programs that affect Claremont businesses\, residents\, and the local economy.\n\nWhy Attend the State of the City?\n\nThe State of the City event offers a unique opportunity to hear from Claremont's city leaders about what's been accomplished and what lies ahead. Local officials will provide updates on key initiatives\, upcoming projects\, and important developments that will impact Claremont's future. It's a great chance to stay up-to-date with the latest news and engage with your neighbors\, business owners\, and civic leaders.\n\nHere are a few reasons why the State of the City event is a must-attend:\n\n\n	Insightful Updates: Get the latest news about Claremont's plans for growth and improvement directly from city leaders.\n	Networking Opportunities: Meet and connect with local business owners\, residents\, and other community members passionate about Claremont's future.\n	Shape the Future: Share your thoughts and ideas with decision-makers who are committed to building a better Claremont for all.\n\n\nWhy Your Presence Matters\n\nAttending the State of the City of Claremont allows you to stay connected to the pulse of our community. The event is more than just an informative session\; it's an opportunity to build relationships and be a part of the ongoing conversation about Claremont's growth and development. Whether you're interested in local business opportunities\, neighborhood initiatives\, or simply want to know more about what's happening in your city\, this event is the place to be.\n\nGet Your Tickets Now! AT CAPACITY! WAITLIST.\n\nTickets for the State of the City of Claremont are available now! We encourage you to reserve your spot before tickets sell out. This event is a valuable opportunity to get involved and stay informed about our city's direction.\n\nIncentivize your attendance with these exciting opportunities:\n\n\n	Network with Local Leaders: Have a chance to engage with city officials and community influencers\, creating meaningful connections for the future.\n	Stay Informed: Learn about new city projects and developments that could impact your business or neighborhood.\n	Exclusive Offers: Be the first to hear about opportunities for Claremont residents and businesses to get involved in local initiatives.\n\n\nWhether you're a resident\, a professional\, or a supporter of Claremont businesses\, the State of the City Luncheon is your opportunity to engage with the people shaping the future of the City of Claremont\n\n\n\nThe event is open and free to the public in accordance with the Brown Act. Members of the public may view the event at The DoubleTree Hotel in Claremont. No registration is required. Please note that lunch is only provided for registered attendees who have paid in advance.\n\n\n\nno refunds after 3/13.
X-ALT-DESC;FMTTYPE=text/html:<p><span font-size:="" style="color: rgb(69\, 75\, 89)\; font-family: " work=""><span style="font-size:20px\;"><strong>Presentation by the Mayor Jennifer Stark &amp\; City Council</strong></span></span><br />\n&nbsp\;</p>\n\n<p><span style="font-family:arial\;"><span style="font-size:16px\;">The <strong>State of the City Luncheon</strong> is the City of Claremont&#39\;s signature event\, designed to inform and connect the community. Held annually\, this event highlights the latest updates on city initiatives\, projects\, and programs that affect <strong>Claremont businesses</strong>\, residents\, and the local economy.</span></span></p>\n\n<h3 data-end="701" data-start="664"><strong><span style="font-size:20px\;"><span style="font-family:arial\;">Why Attend the State of the City?</span></span></strong></h3>\n\n<p data-end="1120" data-start="703"><span style="font-family:arial\;"><span style="font-size:16px\;">The&nbsp\;<strong data-end="728" data-start="707">State of the City</strong>&nbsp\;event offers a unique opportunity to hear from Claremont&rsquo\;s city leaders about what&rsquo\;s been accomplished and what lies ahead. Local officials will provide updates on key initiatives\, upcoming projects\, and important developments that will impact Claremont&rsquo\;s future. It&rsquo\;s a great chance to stay up-to-date with the latest news and engage with your neighbors\, business owners\, and civic leaders.</span></span></p>\n\n<p data-end="1198" data-start="1122"><span style="font-family:arial\;"><span style="font-size:16px\;">Here are a few reasons why the&nbsp\;<strong data-end="1174" data-start="1153">State of the City</strong>&nbsp\;event is a must-attend:</span></span></p>\n\n<ul data-end="1610" data-start="1200">\n	<li data-end="1324" data-start="1200"><span style="font-family:arial\;"><span style="font-size:16px\;"><strong data-end="1225" data-start="1202">Insightful Updates:</strong>&nbsp\;Get the latest news about Claremont&rsquo\;s plans for growth and improvement directly from city leaders.</span></span></li>\n	<li data-end="1477" data-start="1325"><span style="font-family:arial\;"><span style="font-size:16px\;"><strong data-end="1356" data-start="1327">Networking Opportunities:</strong>&nbsp\;Meet and connect with local business owners\, residents\, and other community members passionate about Claremont&rsquo\;s future.</span></span></li>\n	<li data-end="1610" data-start="1478"><span style="font-family:arial\;"><span style="font-size:16px\;"><strong data-end="1501" data-start="1480">Shape the Future:</strong>&nbsp\;Share your thoughts and ideas with decision-makers who are committed to building a better Claremont for all.</span></span></li>\n</ul>\n\n<h3 data-end="1641" data-start="1612"><span style="font-size:20px\;"><strong><span style="font-family:arial\;">Why Your Presence Matters</span></strong></span></h3>\n\n<p data-end="2111" data-start="1643"><span style="font-family:arial\;"><span style="font-size:16px\;">Attending the&nbsp\;<strong data-end="1691" data-start="1657">State of the City of Claremont</strong>&nbsp\;allows you to stay connected to the pulse of our community. The event is more than just an informative session\; it&rsquo\;s an opportunity to build relationships and be a part of the ongoing conversation about Claremont&rsquo\;s growth and development. Whether you&#39\;re interested in local business opportunities\, neighborhood initiatives\, or simply want to know more about what&rsquo\;s happening in your city\, this event is the place to be.</span></span></p>\n\n<h2 data-end="2138" data-start="2113"><span style="font-size:20px\;"><span style="font-family:arial\;"><strong><s>Get Your Tickets Now!</s>&nbsp\;</strong></span></span><strong font-size:="" style="color: rgb(178\, 34\, 34)\; font-family: " work="">AT CAPACITY! WAITLIST.</strong></h2>\n\n<p data-end="2371" data-start="2140"><span style="font-family:arial\;"><span style="font-size:16px\;"><s>Tickets for the&nbsp\;<strong data-end="2190" data-start="2156">State of the City of Claremont</strong>&nbsp\;are available now! We encourage you to reserve your spot before tickets sell out. </s>This event is a valuable opportunity to get involved and stay informed about our city&#39\;s direction.</span></span></p>\n\n<p data-end="2435" data-start="2373"><span style="font-family:arial\;"><span style="font-size:16px\;">Incentivize your attendance with these exciting opportunities:</span></span></p>\n\n<ul data-end="2848" data-start="2437">\n	<li data-end="2589" data-start="2437"><span style="font-family:arial\;"><span style="font-size:16px\;"><strong data-end="2470" data-start="2439">Network with Local Leaders:</strong>&nbsp\;Have a chance to engage with city officials and community influencers\, creating meaningful connections for the future.</span></span></li>\n	<li data-end="2706" data-start="2590"><span style="font-family:arial\;"><span style="font-size:16px\;"><strong data-end="2610" data-start="2592">Stay Informed:</strong>&nbsp\;Learn about new city projects and developments that could impact your business or neighborhood.</span></span></li>\n	<li data-end="2848" data-start="2707"><span style="font-family:arial\;"><span style="font-size:16px\;"><strong data-end="2730" data-start="2709">Exclusive Offers:</strong>&nbsp\;Be the first to hear about opportunities for Claremont residents and businesses to get involved in local initiatives.</span></span></li>\n</ul>\n\n<p><span style="font-family:arial\;"><span style="font-size:16px\;">Whether you&#39\;re a resident\, a professional\, or a supporter of <strong>Claremont businesses</strong>\, the State of the City Luncheon is your opportunity to engage with the people shaping the future of the <strong>City of Claremont</strong></span></span><br />\n<br />\n<span style="font-size:16px\;"><em>The event is open and free to the public in accordance with the Brown Act. </em>Members of the public may view the event at The DoubleTree Hotel in Claremont. No registration is required. <u>Please note that lunch is only provided for registered attendees who have paid in advance.</u><br />\n<br />\n<em><strong>no refunds after 3/13.</strong></em></span></p>\n\n<p style="margin: 0px\; padding: 0px\; color: rgb(83\, 83\, 83)\; font-family: Tahoma\, Geneva\, sans-serif\; font-size: 14px\;"><span style="font-family: Arial\, Verdana\, Helvetica\, sans-serif\; font-size: 17px\;">&#65279\;</span></p>\n
LOCATION:DoubleTree by Hilton Claremont 555 W. Foothill Blvd.\, Claremont\, CA 91711
UID:e.838.48712
SEQUENCE:3
DTSTAMP:20260419T150937Z
URL:https://business.claremontchamber.org/events/details/state-of-the-city-48712
END:VEVENT

END:VCALENDAR
