BEGIN:VCALENDAR
VERSION:2.0
PRODID:-//ChamberMaster//Event Calendar 2.0//EN
METHOD:PUBLISH
X-PUBLISHED-TTL:P3D
REFRESH-INTERVAL:P3D
CALSCALE:GREGORIAN
BEGIN:VEVENT
DTSTART:20170506T160000Z
DTEND:20170506T190000Z
X-MICROSOFT-CDO-ALLDAYEVENT:FALSE
SUMMARY:Stroke Awareness Day
DESCRIPTION:This event is sponsored by PVHMC.\n\n\n\nThis day offers stroke survivors\, families\, caregivers and our community a day of celebration\, education\, awareness and fun with our knowledgable and dedicated stroke team. Screenings/Assessments\, View new Technology\, Resources and Vendors.
X-ALT-DESC;FMTTYPE=text/html:<em>This event is sponsored by PVHMC.</em><br />\n<br />\nThis day offers stroke survivors\, families\, caregivers and our community a day of celebration\, education\, awareness and fun with our knowledgable and dedicated stroke team. Screenings/Assessments\, View new Technology\, Resources and Vendors.
LOCATION:Pomona Valley Hospital Medical Center The Robert & Beverly Lewis Outpatient Pavilion 1798 N. Garey Ave. Pomona\, CA
UID:e.838.16191
SEQUENCE:3
DTSTAMP:20260424T094651Z
URL:https://business.claremontchamber.org/events/details/stroke-awareness-day-16191
END:VEVENT

END:VCALENDAR
